BEGIN:VCALENDAR
VERSION:2.0
PRODID:-//ChamberMaster//Event Calendar 2.0//EN
METHOD:PUBLISH
X-PUBLISHED-TTL:P3D
REFRESH-INTERVAL:P3D
CALSCALE:GREGORIAN
BEGIN:VEVENT
DTSTART;VALUE=DATE:20140208
DTEND;VALUE=DATE:20140209
TRANSP:TRANSPARENT
X-MICROSOFT-CDO-ALLDAYEVENT:TRUE
SUMMARY:Hartland Legion Post's Annual Ice Fishing Fishoree
DESCRIPTION:The Flanagan-Dorn American Legion Post 294 Annual Ice Fishing "Fishoree" is set for Saturday\, February 8th.  Fishing can be done on any lake in Waukesha County. Registration is now done at the Post\, 231 Goodwin Ave.\, Tuesday through Friday after 12:00pm and on Feb. 8th from 6:00am to noon.  Fish brought to the Post before 5:00pm on Feb. 8th will be considered for prizes.\n\n\n\nThe Post will be open for fun all day Saturday with raffles\, door prizes and games being the order of the day. Food and refreshments will be served.\n\n\n\nThe public is invited!  Come and enjoy yourself at the Post's newly renovated building.
X-ALT-DESC;FMTTYPE=text/html:The Flanagan-Dorn American Legion Post 294 Annual Ice Fishing &quot\;Fishoree&quot\; is set for Saturday\, February 8th.&nbsp\; Fishing can be done on any lake in Waukesha County. Registration is now done at the Post\, 231 Goodwin Ave.\, Tuesday through Friday after 12:00pm and on Feb. 8th from 6:00am to noon.&nbsp\; Fish brought to the Post before 5:00pm on Feb. 8th will be considered for prizes.<br />\n<br />\nThe Post will be open for fun all day Saturday with raffles\, door prizes and games being the order of the day. Food and refreshments&nbsp\;will be served.<br />\n<br />\nThe public is invited!&nbsp\; Come and enjoy yourself at the Post&#39\;s newly renovated building.<br />\n<br />\n<br />\n<br />\n<br type="_moz" />\n
LOCATION:231 Goodwin Avenue Hartland\, WI 53029
UID:e.522.131277
SEQUENCE:3
DTSTAMP:20260420T181756Z
URL:https://business.hartland-wi.org/events/details/hartland-legion-post-s-annual-ice-fishing-fishoree-02-08-2014-131277
END:VEVENT

END:VCALENDAR
