BEGIN:VCALENDAR
VERSION:2.0
PRODID:-//ChamberMaster//Event Calendar 2.0//EN
METHOD:PUBLISH
X-PUBLISHED-TTL:P3D
REFRESH-INTERVAL:P3D
CALSCALE:GREGORIAN
BEGIN:VEVENT
DTSTART;VALUE=DATE:20130723
DTEND;VALUE=DATE:20130724
TRANSP:TRANSPARENT
X-MICROSOFT-CDO-ALLDAYEVENT:TRUE
SUMMARY:Hartland Lakeside School District Community Focus Group
DESCRIPTION:"SHARE YOUR VOICE"\n\n	 \n\n	 \n\n	The Hartland Lakeside School District residents are invited to participate in a Community Focus Group.  The purpose of the focus group is to gather information on what you value in a school district.  This information will help guide us in a future strategic planning session.\n\n	 \n\n	 \n\n	 \n\n	Please RSVP by Friday\, July 12\, 2013.
X-ALT-DESC;FMTTYPE=text/html:<p dir="ltr" style="text-align: center\; line-height: 1.15\; margin-top: 0pt\; margin-bottom: 0pt\;">\n	<span id="docs-internal-guid-27e690fa-7e5a-5cf2-67c7-297b95867a84"><span style="color: rgb(0\, 0\, 0)\; font-family: &quot\;Trebuchet MS&quot\;\; font-size: 28px\; vertical-align: baseline\; white-space: pre-wrap\; background-color: transparent\;">&ldquo\;SHARE YOUR VOICE&rdquo\;</span></span></p>\n<p dir="ltr" style="text-align: center\; line-height: 1.15\; margin-top: 0pt\; margin-bottom: 0pt\;">\n	&nbsp\;</p>\n<p dir="ltr" style="line-height: 1.15\; margin-top: 0pt\; margin-bottom: 0pt\;">\n	&nbsp\;</p>\n<p dir="ltr" style="line-height: 1.15\; margin-top: 0pt\; margin-bottom: 0pt\;">\n	<span style="color: rgb(0\, 0\, 0)\; line-height: 1.15\; font-family: Arial\; font-size: 19px\; white-space: pre-wrap\; background-color: transparent\;">The Hartland Lakeside School District residents are invited to participate in a Community Focus Group. &nbsp\;The purpose of the focus group is to gather information on what you value in a school district. &nbsp\;This information will help guide us in a future strategic planning session.</span></p>\n<p dir="ltr" style="line-height: 1.15\; margin-top: 0pt\; margin-bottom: 0pt\;">\n	&nbsp\;</p>\n<p dir="ltr" style="line-height: 1.15\; margin-top: 0pt\; margin-bottom: 0pt\;">\n	&nbsp\;</p>\n<p dir="ltr" style="line-height: 1.15\; margin-top: 0pt\; margin-bottom: 0pt\;">\n	&nbsp\;</p>\n<p dir="ltr" style="line-height: 1.15\; margin-top: 0pt\; margin-bottom: 0pt\;">\n	<span id="docs-internal-guid-27e690fa-7e5a-5cf2-67c7-297b95867a84"><span style="color: rgb(0\, 0\, 0)\; font-family: Arial\; font-size: 19px\; vertical-align: baseline\; white-space: pre-wrap\; background-color: transparent\;">Please RSVP by Friday\, July 12\, 2013.</span></span></p>\n<br />\n
LOCATION:North Shore Middle School 800 North Shore Drive Hartland\, WI
UID:e.522.132748
SEQUENCE:3
DTSTAMP:20260420T161655Z
URL:https://business.hartland-wi.org/events/details/hartland-lakeside-school-district-community-focus-group-07-23-2013-132748
END:VEVENT

END:VCALENDAR
