BEGIN:VCALENDAR
VERSION:2.0
PRODID:-//ChamberMaster//Event Calendar 2.0//EN
METHOD:PUBLISH
X-PUBLISHED-TTL:P3D
REFRESH-INTERVAL:P3D
CALSCALE:GREGORIAN
BEGIN:VEVENT
DTSTART:20111028T233000Z
DTEND:20111029T030000Z
X-MICROSOFT-CDO-ALLDAYEVENT:FALSE
SUMMARY:Hartland-Lakeside Education Foundation Homestead Animal Farm Corn Maze
DESCRIPTION:The Homestead Animal Farm is hosting a Hartland-Lakeside Education Foundation Family Corn Maze Event on Friday\, October 28\, 2011 from 6:30   10:00 p.m. They are generously donating 50% of all corn maze proceeds during this time to the HLEF. The cost is $6.00 per person entering the Packers Championship Corn Maze. The last entrance to the maze is at 9:00 p.m. Bring friends\, family\, and flashlights for a fun-filled Fall night! For more info about the farm\, visit www.homesteadanimalfarm.com\n\n\n\nAbout the HLEF: The Hartland-Lakeside Education Foundation (HLEF) exists to provide financial support to the Hartland-Lakeside School District through fundraising activities as well as acting as a public relations liaison between the district and the community. The goal is to provide supplementary means to meet and exceed the educational goals through fundraising and donations from parents\, alumni and the community at large. The HLEF collaborates with the district and it funds PTO activities and events. The HLEF is a non-profit organization accepting tax deductible donations and company matching gifts to maintain academic excellence in the Hartland-Lakeside schools within the Hartland\, WI community. \n\n	\n		Supporting Hartland North\, Hartland South\, North Shore Middle School\, Hartland School of Community Learning & LIFE Charter\n	\n		Visit our NEW website www.hartlakefoundation.com & "like" us on Facebook to stay informed!
X-ALT-DESC;FMTTYPE=text/html:The Homestead Animal Farm is hosting a Hartland-Lakeside Education Foundation Family Corn Maze Event on Friday\, October 28\, 2011 from 6:30 &ndash\; 10:00 p.m. They are generously donating 50% of all corn maze proceeds during this time to the HLEF. The cost is $6.00 per person entering the Packers Championship Corn Maze. The last entrance to the maze is at 9:00 p.m. Bring friends\, family\, and flashlights for a fun-filled Fall night! For more info about the farm\, visit www.homesteadanimalfarm.com<br />\n<br />\n<strong>About the HLEF</strong>: The Hartland-Lakeside Education Foundation (HLEF) exists to provide financial support to the Hartland-Lakeside School District through fundraising activities as well as acting as a public relations liaison between the district and the community. The goal is to provide supplementary means to meet and exceed the educational goals through fundraising and donations from parents\, alumni and the community at large. The HLEF collaborates with the district and it funds PTO activities and events. The HLEF is a non-profit organization accepting tax deductible donations and company matching gifts to maintain academic excellence in the Hartland-Lakeside schools within the Hartland\, WI community.&nbsp\;\n<ul>\n	<li>\n		Supporting Hartland North\, Hartland South\, North Shore Middle School\, Hartland School of Community Learning &amp\; LIFE Charter</li>\n	<li>\n		Visit our NEW website www.hartlakefoundation.com &amp\; &ldquo\;like&rdquo\; us on Facebook to stay informed!</li>\n</ul>\n<br />\n
LOCATION:Homestead Animal Farm\, W320 N9127 Hwy 83\, Hartland\, WI 53029
UID:e.522.131775
SEQUENCE:3
DTSTAMP:20260422T042721Z
URL:https://business.hartland-wi.org/events/details/hartland-lakeside-education-foundation-homestead-animal-farm-corn-maze-10-28-2011-131775
END:VEVENT

END:VCALENDAR
