BEGIN:VCALENDAR
VERSION:2.0
PRODID:-//ChamberMaster//Event Calendar 2.0//EN
METHOD:PUBLISH
X-PUBLISHED-TTL:P3D
REFRESH-INTERVAL:P3D
CALSCALE:GREGORIAN
BEGIN:VEVENT
DTSTART:20120519T130000Z
DTEND:20120519T170000Z
X-MICROSOFT-CDO-ALLDAYEVENT:FALSE
SUMMARY:Hartland Healthy Life Run/Walk
DESCRIPTION:The Hartland-Lakeside Education Foundation (HLEF) is pleased to host the Hartland Healthy Life Run/Walk on Saturday\, May 19th\, 2012.  The 1 mile or 5K run / walk will be held rain or shine at Hartland North School.  Day of event registration and pre-registered check in from 6:00 a.m - 7:45 a.m..  The event begins at 8:00 a.m.\n\n\n\nThis year local elementary schools are challenged to get involved by competing for the traveling "Arrowhead Cup" trophy.  The school with the highest percentage of participation in the run / walk will receive the trophy for the year.\n\n\n\nTo participate\, register online at www.active.com. Once on the website\, go to Hartland\, WI & search hartlake.  Hardcopy registration forms are available at any Hartland-Lakeside school office (Hartland North\, Hartland South\, or North Shore Middle School).\n\n\n\nParticipants of all ages welcome.  This is a healthy\, family-friendly event. There will be a raffle & other items available for sale. The award ceremony follows the race.\n\n\n\nThere are sponsorship opportunities and raffle donations are appreciated.  If you want to donate your time\, talents\, or make a donation\, please email Amy Peck at foundation@hartlake.org.
X-ALT-DESC;FMTTYPE=text/html:The Hartland-Lakeside Education Foundation (HLEF) is pleased to host the <strong>Hartland Healthy Life Run/Walk on Saturday\, May 19th\, 2012</strong>.&nbsp\; The 1 mile or 5K run / walk will be held rain or shine at Hartland North School.&nbsp\; Day of event registration and pre-registered check in from 6:00 a.m - 7:45 a.m..&nbsp\; The event begins at 8:00 a.m.<br />\n<br />\nThis year local elementary schools are challenged to get involved by competing for the traveling &ldquo\;Arrowhead Cup&rdquo\; trophy.&nbsp\; The school with the highest percentage of participation in the run / walk will receive the trophy for the year.<br />\n<br />\nTo participate\, register online at <a href="http://www.active.com">www.active.com</a>. Once on the website\, go to Hartland\, WI &amp\; search hartlake.&nbsp\; Hardcopy registration forms are available at any Hartland-Lakeside school office (Hartland North\, Hartland South\, or North Shore Middle School).<br />\n<br />\nParticipants of all ages welcome.&nbsp\; This is a healthy\, family-friendly event. There will be a raffle &amp\; other items available for sale. The award ceremony follows the race.<br />\n<br />\nThere are sponsorship opportunities and raffle donations are appreciated.&nbsp\; If you want to donate your time\, talents\, or make a donation\, please email Amy Peck at <a href="mailto:foundation@hartlake.org">foundation@hartlake.org</a>.
LOCATION:Hartland North Elementary School 232 North Church Street Hartland\, WI 53029
UID:e.522.131955
SEQUENCE:3
DTSTAMP:20260421T161357Z
URL:https://business.hartland-wi.org/events/details/hartland-healthy-life-run-walk-05-19-2012-131955
END:VEVENT

END:VCALENDAR
