BEGIN:VCALENDAR
VERSION:2.0
PRODID:-//ChamberMaster//Event Calendar 2.0//EN
METHOD:PUBLISH
X-PUBLISHED-TTL:P3D
REFRESH-INTERVAL:P3D
CALSCALE:GREGORIAN
BEGIN:VEVENT
DTSTART:20170428T140000Z
DTEND:20170509T020000Z
X-MICROSOFT-CDO-ALLDAYEVENT:FALSE
SUMMARY:HARTLAND CHAMBER OFFICE CLOSED
DESCRIPTION:The Hartland Chamber Office will be closed\n\nApril 28 - May 9th\n\ndue to our International Trip to Iceland.
X-ALT-DESC;FMTTYPE=text/html:<div style="text-align: center\;"><br>\n<br>\n<span style="font-size:18px\;"><span style="color:#FF0000\;">The Hartland Chamber Office will be closed<br>\nApril 28 - May 9th<br>\ndue to our International Trip to Iceland.</span></span></div>\n
LOCATION:
UID:e.522.134853
SEQUENCE:3
DTSTAMP:20260423T031348Z
URL:https://business.hartland-wi.org/events/details/hartland-chamber-office-closed-134853
END:VEVENT

END:VCALENDAR
