BEGIN:VCALENDAR
VERSION:2.0
PRODID:-//ChamberMaster//Event Calendar 2.0//EN
METHOD:PUBLISH
X-PUBLISHED-TTL:P3D
REFRESH-INTERVAL:P3D
CALSCALE:GREGORIAN
BEGIN:VEVENT
DTSTART;VALUE=DATE:20180203
DTEND;VALUE=DATE:20180204
TRANSP:TRANSPARENT
X-MICROSOFT-CDO-ALLDAYEVENT:TRUE
SUMMARY:Hartland American Legion Post 294 Annual Fishoree
DESCRIPTION:The annual Hartland American Legion Post 294 Fishoree will be held Sat.\, February 3\, 2018\, at the Post.  Registration ($10) for fishing is now being taken at the post and beginning at 6:00 am the day of event.  Day of fun with games\, music by Mark Kenney (from 3-6 pm) and raffles including a Jiffy Propane Ice Drill with 8" auger AND a 48" Element TV (first winner gets choice). 200 max tickets being sold for $10.00 each.  All fishing registration monies paid out to winners.  Fish any lake in Waukesha County.\n\n\n\nThe Post is located at 231 Goodwin Ave\, Hartland. Come on down to register for the fishoree and grab a few raffle tickets!!!!!  Help the Legion support our local vets who need assistance.
X-ALT-DESC;FMTTYPE=text/html:<p><span style="font-size: 14px\;"><strong>The annual Hartland American Legion Post 294 Fishoree will be held Sat.\, February 3\, 2018\, at the Post.</strong>&nbsp\;</span> Registration ($10) for fishing is now being taken at the post and beginning at 6:00 am the day of event.&nbsp\;&nbsp\;Day of fun with games\, music by Mark Kenney (from 3-6 pm) and raffles including a Jiffy Propane Ice Drill with 8&quot\; auger AND a 48&quot\; Element TV (first winner gets choice).&nbsp\;200 max tickets being sold for $10.00 each.&nbsp\; All fishing registration monies paid out to winners.&nbsp\; Fish any lake in Waukesha County.<br />\n<br />\nThe Post is located at 231 Goodwin Ave\, Hartland. Come on down to register for the fishoree&nbsp\;and grab a few raffle tickets!!!!!&nbsp\; Help the Legion support our local vets who need assistance.</p>\n
LOCATION:American Legion Post 294 231 Goodwin Avenue Hartland\, WI 53029
UID:e.522.137191
SEQUENCE:3
DTSTAMP:20260423T200239Z
URL:https://business.hartland-wi.org/events/details/hartland-american-legion-post-294-annual-fishoree-137191
END:VEVENT

END:VCALENDAR
