BEGIN:VCALENDAR
VERSION:2.0
PRODID:-//ChamberMaster//Event Calendar 2.0//EN
METHOD:PUBLISH
X-PUBLISHED-TTL:P3D
REFRESH-INTERVAL:P3D
CALSCALE:GREGORIAN
BEGIN:VEVENT
DTSTART:20120616T010000Z
DTEND:20120617T030000Z
X-MICROSOFT-CDO-ALLDAYEVENT:FALSE
SUMMARY:"Hamlet" at SummerStage of Delafield
DESCRIPTION:This uniquely condensed comedic adaptation of Shakespeare's play features maskwork\, puppetry\, live music\, physical comedy\, acrobatics\, and stage combat.  This ensemble piece brings one of Shakespeare's pinacle works to life through poetically simplistic staging\, intense stage combat and sword play.  Five actors bring this show to life with only a ladder and a chair.
X-ALT-DESC;FMTTYPE=text/html:This uniquely condensed comedic adaptation of Shakespeare&rsquo\;s play features maskwork\, puppetry\, live music\, physical comedy\, acrobatics\, and stage combat.&nbsp\; This ensemble piece brings one of Shakespeare&rsquo\;s pinacle works to life through poetically simplistic staging\, intense stage combat and sword play.&nbsp\; Five actors bring this show to life with only a ladder and a chair.
LOCATION:SummerStage at Lapham Peak State Park
UID:e.522.131945
SEQUENCE:3
DTSTAMP:20260421T143431Z
URL:https://business.hartland-wi.org/events/details/hamlet-at-summerstage-of-delafield-06-15-2012-131945
END:VEVENT

END:VCALENDAR
