BEGIN:VCALENDAR
VERSION:2.0
PRODID:-//ChamberMaster//Event Calendar 2.0//EN
METHOD:PUBLISH
X-PUBLISHED-TTL:P3D
REFRESH-INTERVAL:P3D
CALSCALE:GREGORIAN
BEGIN:VEVENT
DTSTART:20171021T230000Z
DTEND:20171022T013000Z
X-MICROSOFT-CDO-ALLDAYEVENT:FALSE
SUMMARY:Halloween DJ Skate
DESCRIPTION:Come dressed in your favorite costume and have some Halloween fun! Admission includes skate rental\, glow item\, candy or chips\, and a drink!
X-ALT-DESC;FMTTYPE=text/html:Come dressed in your favorite costume and have some Halloween fun! Admission includes skate rental\, glow item\, candy or chips\, and a drink!
LOCATION:Mullett Ice Center Located on the Arrowhead High School Campus 700 North Ave Hartland\, WI 53029
UID:e.522.136769
SEQUENCE:3
DTSTAMP:20260423T131438Z
URL:https://business.hartland-wi.org/events/details/halloween-dj-skate-136769
END:VEVENT

END:VCALENDAR
