BEGIN:VCALENDAR
VERSION:2.0
PRODID:-//ChamberMaster//Event Calendar 2.0//EN
METHOD:PUBLISH
X-PUBLISHED-TTL:P3D
REFRESH-INTERVAL:P3D
CALSCALE:GREGORIAN
BEGIN:VEVENT
DTSTART:20110722T140000Z
DTEND:20110722T180000Z
X-MICROSOFT-CDO-ALLDAYEVENT:FALSE
SUMMARY:Grapplling Camp
DESCRIPTION:Kids ages 7 to 12 will learn basic grappling techniques.  A great introduction to grappling\, jiu jitsu\, and self defense from the ground.
X-ALT-DESC;FMTTYPE=text/html:Kids ages 7 to 12 will learn basic grappling techniques.&nbsp\; A great introduction to grappling\, jiu jitsu\, and self defense from the ground.
LOCATION:350 Cottonwood Ave
UID:e.522.131742
SEQUENCE:3
DTSTAMP:20260420T103804Z
URL:https://business.hartland-wi.org/events/details/grapplling-camp-07-22-2011-131742
END:VEVENT

END:VCALENDAR
