BEGIN:VCALENDAR
VERSION:2.0
PRODID:-//ChamberMaster//Event Calendar 2.0//EN
METHOD:PUBLISH
X-PUBLISHED-TTL:P3D
REFRESH-INTERVAL:P3D
CALSCALE:GREGORIAN
BEGIN:VEVENT
DTSTART:20151113T161500Z
DTEND:20151113T190000Z
X-MICROSOFT-CDO-ALLDAYEVENT:FALSE
SUMMARY:Government Updates with Governor Scott Walker
DESCRIPTION:Government Updates with Governor Scott Walker\n\n\n\n10:15 am - 1:00 pm\n\n\n\nMilwaukee Marriott West Hotel\n\nW231 N1600 Corporate Ct.\n\nWaukesha\, WI  53186
X-ALT-DESC;FMTTYPE=text/html:<div style="text-align: center\;"><u><span style="color: rgb(0\, 0\, 205)\;"><strong><span style="font-size: 14px\;">Government Updates with Governor Scott Walker</span></strong></span></u><br />\n<br />\n<span style="color: rgb(0\, 0\, 205)\;"><strong><span style="font-size: 14px\;">10:15 am - 1:00 pm<br />\n<br />\nMilwaukee Marriott West Hotel<br />\nW231 N1600 Corporate Ct.<br />\nWaukesha\, WI&nbsp\; 53186</span></strong></span></div>\n
LOCATION:Milwaukee Marriott West Hotel W231 N1600 Corporate Ct. Waukesha\, WI 53186
UID:e.522.133309
SEQUENCE:3
DTSTAMP:20260421T212816Z
URL:https://business.hartland-wi.org/events/details/government-updates-with-governor-scott-walker-11-13-2015-133309
END:VEVENT

END:VCALENDAR
