BEGIN:VCALENDAR
VERSION:2.0
PRODID:-//ChamberMaster//Event Calendar 2.0//EN
METHOD:PUBLISH
X-PUBLISHED-TTL:P3D
REFRESH-INTERVAL:P3D
CALSCALE:GREGORIAN
BEGIN:VEVENT
DTSTART:20120922T160000Z
DTEND:20121215T180000Z
X-MICROSOFT-CDO-ALLDAYEVENT:FALSE
SUMMARY:Glass Fusing Workshops
DESCRIPTION:Discover the basics of fused glass during the one-hour workshop.  Each student will make two glass pendants using colored and dichoric glass\, stringers and fritz.  These workshops are the third Saturday of each month through December.  Also during Hartland Lights November 30\, 5:30 - 8:30p.m.
X-ALT-DESC;FMTTYPE=text/html:Discover the basics of fused glass during the one-hour workshop.&nbsp\; Each student will make two glass pendants using colored and dichoric glass\, stringers and fritz.&nbsp\; These workshops are the third Saturday of each month through December.&nbsp\; Also during Hartland Lights November 30\, 5:30 - 8:30p.m.
LOCATION:Lake Country Fine Arts School and Gallery 112 w. Capitol Dr. Hartland\, WI 53029
UID:e.522.132020
SEQUENCE:3
DTSTAMP:20260421T041431Z
URL:https://business.hartland-wi.org/events/details/glass-fusing-workshops-09-22-2012-132020
END:VEVENT

END:VCALENDAR
