BEGIN:VCALENDAR
VERSION:2.0
PRODID:-//ChamberMaster//Event Calendar 2.0//EN
METHOD:PUBLISH
X-PUBLISHED-TTL:P3D
REFRESH-INTERVAL:P3D
CALSCALE:GREGORIAN
BEGIN:VEVENT
DTSTART:20120816T220000Z
DTEND:20120817T020000Z
X-MICROSOFT-CDO-ALLDAYEVENT:FALSE
SUMMARY:Girlfriends' Gala
DESCRIPTION:Girlfriends' Gala!\n\n	Shop\, Dine & Indulge in Local Treasures......\n\n	Thursday\, August 16th\, 5 - 9pm!!\n\n	Participating Businesses:\n\n	 \n\n	Illustrations Photography \, Hartland Center of Alternative Medicine\n\n	Sound Body Massage\, Palmers\, By Ally Home Design\,\n\n	This Great Coffee Place\, Lake Country Fine Arts\, Dr. Muezenbergger\n\n	Lake Country Playhouse \, Bronzer Image \n\n	Kirsten's Salon\, Bogars\, Lake Country Martial Arts\n\n	\n\n	Sidewalk Vendors:\n\n	Mary Kay\, Lia Sophia\, Martita's Mixers \, KC's Kafe\n\n	Sidewalk Artists\, LACI Boutique \, To the Pointe \n\n	Ovarian Cancer \, Butters and Bubbles \, Lake Country Wood Shoppe \n\n\n\n	Visit the Silent Auction table at the corner of Cottonwood and Capitol\, 5-8pm!  \n\n	100% of the proceeds from the Auction will benefit the Waukesha Women's Center!  \n\n	Live music\, performed by local musician\, Myles Wangerin!\n\n	\n\n	 \n\n	For more information on the event\, please contact:\n\n	Jen Shoemake\, jennifer@hartlandaltmed.com\n\n	Visit 'Girlfriends Gala in Downtown Hartland' on Facebook for more details!!!
X-ALT-DESC;FMTTYPE=text/html:<h1>\n	<span style="color: #ff0066"><em><span style="font-family: tahoma"><strong>Girlfriends&#39\; Gala!</strong></span></em></span></h1>\n<h2>\n	<span style="color: #800080"><em>Shop\, Dine &amp\; Indulge in Local Treasures......</em></span></h2>\n<h2>\n	<strong><span style="color: #ff0066">Thursday\, August 16th\, 5 - 9pm!!</span></strong></h2>\n<h3>\n	<span style="color: #800080"><strong>Participating Businesses:</strong></span><br />\n	&nbsp\;</h3>\n<h4>\n	<strong>Illustrations Photography \,&nbsp\;Hartland Center of Alternative Medicine</strong><br />\n	<strong>Sound Body Massage\,&nbsp\;Palmers\,&nbsp\;By Ally Home Design\,</strong><br />\n	<strong>This Great Coffee Place\,&nbsp\;Lake Country Fine Arts\,&nbsp\;Dr. Muezenbergger</strong><br />\n	<strong>Lake Country Playhouse \,&nbsp\;Bronzer Image&nbsp\;</strong><br />\n	<strong>Kirsten&rsquo\;s Salon\,&nbsp\;Bogars\, Lake Country Martial Arts</strong></h4>\n<h3>\n	<br />\n	<span style="color: #800080"><strong>Sidewalk Vendors:</strong></span></h3>\n<h4>\n	<strong>Mary Kay\,&nbsp\;Lia Sophia\,&nbsp\;Martita&rsquo\;s Mixers \,&nbsp\;KC&rsquo\;s Kafe<br />\n	Sidewalk Artists\,&nbsp\;LACI Boutique \,&nbsp\;To the Pointe&nbsp\;<br />\n	Ovarian Cancer \,&nbsp\;Butters and Bubbles \,&nbsp\;Lake Country Wood Shoppe&nbsp\;</strong></h4>\n<br />\n<h4>\n	<strong><span style="color: #800080">Visit the Silent Auction table at the corner of Cottonwood and Capitol\, 5-8pm! &nbsp\;</span><br />\n	100% of the proceeds from the Auction will benefit the Waukesha Women&#39\;s Center! &nbsp\;<br />\n	<span style="color: #ff0066">Live music\, performed by local musician\, Myles Wangerin!</span></strong></h4>\n<h3>\n	<br />\n	&nbsp\;</h3>\n<h3>\n	<strong>For more information on the event\, please contact:<br />\n	Jen Shoemake\, jennifer@hartlandaltmed.com</strong></h3>\n<h3>\n	<em><span style="color: #ff0066"><strong>Visit &#39\;Girlfriends Gala in Downtown Hartland&#39\; on Facebook for more details!!!</strong></span></em></h3>\n<br />\n
LOCATION:Throughout Downtown Hartland
UID:e.522.131966
SEQUENCE:3
DTSTAMP:20260421T111449Z
URL:https://business.hartland-wi.org/events/details/girlfriends-gala-08-16-2012-131966
END:VEVENT

END:VCALENDAR
