BEGIN:VCALENDAR
VERSION:2.0
PRODID:-//ChamberMaster//Event Calendar 2.0//EN
METHOD:PUBLISH
X-PUBLISHED-TTL:P3D
REFRESH-INTERVAL:P3D
CALSCALE:GREGORIAN
BEGIN:VEVENT
DTSTART:20130430T223000Z
DTEND:20130501T000000Z
X-MICROSOFT-CDO-ALLDAYEVENT:FALSE
SUMMARY:Girl's Night Out
DESCRIPTION:Whether it's to find the perfect Mother's Day gift\, support The Women's Center\, or just to get out with your friends\, join us for a fun evening set aside for you with tastings\, samples\, raffles\, snacks\, and giveaways from our friends and yours\, including: Arbonne\, Wild Tree\, Lia Sophia\, Pampered Chef\, Shaklee\, Fitness Together\, Thirty-One\, Oliva di Vita\, JAM Therpeutics\, and spinal screenings by Dr. Abby Rose.
X-ALT-DESC;FMTTYPE=text/html:Whether it&#39\;s to find the perfect Mother&#39\;s Day gift\, support The Women&#39\;s Center\, or just to get out with your friends\, join us for a fun evening set aside for you with tastings\, samples\, raffles\, snacks\, and giveaways from our friends and yours\, including: Arbonne\, Wild Tree\, Lia Sophia\, Pampered Chef\, Shaklee\, Fitness Together\, Thirty-One\, Oliva di Vita\, JAM Therpeutics\, and spinal screenings by Dr. Abby Rose. 
LOCATION:Chiropractic Care Center - Hartland 864 Rose Dr. Hartland\, WI 53029
UID:e.522.132370
SEQUENCE:3
DTSTAMP:20260420T213231Z
URL:https://business.hartland-wi.org/events/details/girl-s-night-out-04-30-2013-132370
END:VEVENT

END:VCALENDAR
