BEGIN:VCALENDAR
VERSION:2.0
PRODID:-//ChamberMaster//Event Calendar 2.0//EN
METHOD:PUBLISH
X-PUBLISHED-TTL:P3D
REFRESH-INTERVAL:P3D
CALSCALE:GREGORIAN
BEGIN:VEVENT
DTSTART:20180904T130000Z
DTEND:20180904T150000Z
X-MICROSOFT-CDO-ALLDAYEVENT:FALSE
SUMMARY:Genetics and Your Personal Health: Summit Senior Breakfast Club
DESCRIPTION:Summit Senior Breakfast Club\n\nGenetics and Your Personal Health\n\n\n\nWhat do you know about your genes?  Join genetic counselor\, Kara Schoeffel to learn about the role of genetics\, environmental and nutritional factors as well as lifestyle choices that may increase certain types of cancer and cardiac disease.\n\n\n\nRegistration is requires:  888-863-5502 or contact Trish Golden at 262-434-1248\n\nRegistration/light meal:  8 to 8:30\n\nPresentation:  8:30 to 10
X-ALT-DESC;FMTTYPE=text/html:<div style="text-align: center\;"><strong>Summit Senior Breakfast Club<br />\nGenetics and Your Personal Health<br />\n<br />\nWhat do you know about your genes?&nbsp\; Join genetic counselor\, Kara Schoeffel to learn about the role of genetics\, environmental and nutritional factors as well as lifestyle choices that may increase certain types of cancer and cardiac disease.<br />\n<br />\nRegistration is requires:&nbsp\; 888-863-5502 or contact Trish Golden at 262-434-1248<br />\nRegistration/light meal:&nbsp\; 8 to 8:30<br />\nPresentation:&nbsp\; 8:30 to 10</strong></div>\n
LOCATION:Aurora Medical Center Summit Draper Hall 36500 Aurora Drive Summit\, WI
UID:e.522.137250
SEQUENCE:3
DTSTAMP:20260424T073630Z
URL:https://business.hartland-wi.org/events/details/genetics-and-your-personal-health-summit-senior-breakfast-club-137250
END:VEVENT

END:VCALENDAR
