BEGIN:VCALENDAR
VERSION:2.0
PRODID:-//ChamberMaster//Event Calendar 2.0//EN
METHOD:PUBLISH
X-PUBLISHED-TTL:P3D
REFRESH-INTERVAL:P3D
CALSCALE:GREGORIAN
BEGIN:VEVENT
DTSTART:20190517T220000Z
DTEND:20190518T000000Z
X-MICROSOFT-CDO-ALLDAYEVENT:FALSE
SUMMARY:Fun Fair
DESCRIPTION:This year we are hosting a NEW spring event at the Y! Fun Fair will be held on Friday\, May 17th from 5-7 pm! A great opportunity for families to play together including bounce houses\, games\, crafts and contests for kids of all ages! Join in the family fun\, win tickets and earn prizes!
X-ALT-DESC;FMTTYPE=text/html:<span style="font-family:verdana\,sans-serif"><span style="font-size:11.0pt"><span style="font-family:verdana">This year we are hosting a NEW spring event at the Y! Fun Fair will be held on Friday\, May 17<sup>th</sup>&nbsp\;from 5-7 pm! A great opportunity for families to play together including bounce houses\, games\, crafts and contests for kids of all ages! Join in the family fun\, win tickets and earn prizes!</span></span></span>
LOCATION:YMCA at Pabst Farms 1750 E. Valley Rd. Oconomowoc\, WI 53066
UID:e.522.137774
SEQUENCE:3
DTSTAMP:20260424T212632Z
URL:https://business.hartland-wi.org/events/details/fun-fair-137774
END:VEVENT

END:VCALENDAR
