BEGIN:VCALENDAR
VERSION:2.0
PRODID:-//ChamberMaster//Event Calendar 2.0//EN
METHOD:PUBLISH
X-PUBLISHED-TTL:P3D
REFRESH-INTERVAL:P3D
CALSCALE:GREGORIAN
BEGIN:VEVENT
DTSTART;VALUE=DATE:20120910
DTEND;VALUE=DATE:20120916
TRANSP:TRANSPARENT
X-MICROSOFT-CDO-ALLDAYEVENT:TRUE
SUMMARY:Free Try-It-Week
DESCRIPTION:Hartland Recreation Department is having their  Free Try-It-Week starring September 10 through 15. For more information\, please contact Kelli Yogerst\, Recreation Director at kelliy@villageofhartland.com or (262) 367-0352.  You can also find out which programs are participting in the Free Try-It-Week by visiting www.villageofhartland.com.
X-ALT-DESC;FMTTYPE=text/html:<strong><span style="background-color: #ffff00">Hartland Recreation Department is&nbsp\;having their &nbsp\;Free Try-It-Week starring September 10 through&nbsp\;15. For more information\, please contact Kelli Yogerst\, Recreation Director at </span><a href="mailto:kelliy@villageofhartland.com"><span style="background-color: #ffff00">kelliy@villageofhartland.com</span></a><span style="background-color: #ffff00"> or (262) 367-0352.&nbsp\; You can also find out which programs are participting in the Free Try-It-Week by visiting <a href="http://www.villageofhartland.com">www.villageofhartland.com</a>.&nbsp\;</span></strong>
LOCATION:
UID:e.522.132014
SEQUENCE:3
DTSTAMP:20260421T110537Z
URL:https://business.hartland-wi.org/events/details/free-try-it-week-09-10-2012-132014
END:VEVENT

END:VCALENDAR
