BEGIN:VCALENDAR
VERSION:2.0
PRODID:-//ChamberMaster//Event Calendar 2.0//EN
METHOD:PUBLISH
X-PUBLISHED-TTL:P3D
REFRESH-INTERVAL:P3D
CALSCALE:GREGORIAN
BEGIN:VEVENT
DTSTART:20180419T160000Z
DTEND:20180419T190000Z
X-MICROSOFT-CDO-ALLDAYEVENT:FALSE
SUMMARY:Free Preventive Screening for oral\, head and neck!
DESCRIPTION:Because the best way to fight cancer is to prevent it!\n\nFree preventive screening for oral\, head and neck.\n\n\n\nThese free five-minute screenings can help catch cancers that arise in the nasal cavity\, sinuses\, lips mouth\, thyroid glands\, salivary glands\, throat and larynx at an early stage when the disease is most treatable.\n\n\n\nRegistration is required!  To schedule an appointment phone:  262-434-1000 and ask for the ENT Department.\n\nThursday\, 19\, 2018\n\n11 to 2 p.m.
X-ALT-DESC;FMTTYPE=text/html:<div style="text-align: center\;"><strong>Because the best way to fight cancer is to prevent it!<br />\nFree preventive screening for oral\, head and neck.<br />\n<br />\nThese free five-minute screenings can help catch cancers that arise in the nasal cavity\, sinuses\, lips mouth\, thyroid glands\, salivary glands\, throat and larynx at an early stage when the disease is most treatable.<br />\n<br />\nRegistration is required!&nbsp\; To schedule an appointment phone:&nbsp\; 262-434-1000 and ask for the ENT Department.<br />\nThursday\, 19\, 2018<br />\n11 to 2 p.m.</strong><br />\n&nbsp\;</div>\n
LOCATION:Aurora Wilkinson Clinic ENT Department 36500 Aurora Drive Summit\, WI
UID:e.522.137169
SEQUENCE:3
DTSTAMP:20260423T232719Z
URL:https://business.hartland-wi.org/events/details/free-preventive-screening-for-oral-head-and-neck-137169
END:VEVENT

END:VCALENDAR
