BEGIN:VCALENDAR
VERSION:2.0
PRODID:-//ChamberMaster//Event Calendar 2.0//EN
METHOD:PUBLISH
X-PUBLISHED-TTL:P3D
REFRESH-INTERVAL:P3D
CALSCALE:GREGORIAN
BEGIN:VEVENT
DTSTART:20180414T000000Z
DTEND:20180414T010000Z
X-MICROSOFT-CDO-ALLDAYEVENT:FALSE
SUMMARY:Free Parent Workshop on Childhood Anxiety & Depression at Zion Lutheran School
DESCRIPTION:Zion Lutheran School will be hosting a free parent workshop titled Childhood Anxiety and Depression.  The presenter will be Ashley Maas who is a social worker with Christion Family Solutions. She specializes in anxiety and depression in children and teens. In this parent workshop\, you will learn how to recognize the signs\, find out about common causes\, and discover ways to talk to kids about this important topic.
X-ALT-DESC;FMTTYPE=text/html:Zion Lutheran School will be hosting a free parent workshop titled Childhood Anxiety and Depression.&nbsp\; The presenter will be Ashley Maas who is a social worker with Christion Family Solutions. She specializes in anxiety and depression in children and teens. In this parent workshop\, you will learn how to recognize the signs\, find out about common causes\, and discover ways to talk to kids about this important topic.
LOCATION:Zion Lutheran School 1023 E. Capitol Dr. Hartland\, WI 53029
UID:e.522.137215
SEQUENCE:3
DTSTAMP:20260423T233113Z
URL:https://business.hartland-wi.org/events/details/free-parent-workshop-on-childhood-anxiety-depression-at-zion-lutheran-school-137215
END:VEVENT

END:VCALENDAR
