BEGIN:VCALENDAR
VERSION:2.0
PRODID:-//ChamberMaster//Event Calendar 2.0//EN
METHOD:PUBLISH
X-PUBLISHED-TTL:P3D
REFRESH-INTERVAL:P3D
CALSCALE:GREGORIAN
BEGIN:VEVENT
DTSTART:20190427T050000Z
DTEND:20190427T190000Z
X-MICROSOFT-CDO-ALLDAYEVENT:FALSE
SUMMARY:Free Community Shred Event
DESCRIPTION:Free Community Annual      Shred Event!\n\nShred all of your documents from the tax season safely and securely. Clients and Community members are all welcome to attend!
X-ALT-DESC;FMTTYPE=text/html:<h1 style="text-align:center"><span style="font-family:lora\,serif\; font-size:40pt">Free Community Annual &nbsp\;&nbsp\;&nbsp\;&nbsp\;&nbsp\;Shred Event!</span></h1>\n\n<p style="text-align:center"><em>Shred all of your documents from the tax season safely and securely. Clients and Community members are all welcome to attend!</em></p>\n\n<div>&nbsp\;</div>\n
LOCATION:D&L Financial Services LLC 555 S Industrial Dr. Ste. 11 Hartland\, WI 53029
UID:e.522.137773
SEQUENCE:3
DTSTAMP:20260424T192924Z
URL:https://business.hartland-wi.org/events/details/free-community-shred-event-137773
END:VEVENT

END:VCALENDAR
