BEGIN:VCALENDAR
VERSION:2.0
PRODID:-//ChamberMaster//Event Calendar 2.0//EN
METHOD:PUBLISH
X-PUBLISHED-TTL:P3D
REFRESH-INTERVAL:P3D
CALSCALE:GREGORIAN
BEGIN:VEVENT
DTSTART;VALUE=DATE:20110426
DTEND;VALUE=DATE:20110515
TRANSP:TRANSPARENT
X-MICROSOFT-CDO-ALLDAYEVENT:TRUE
SUMMARY:Fox Bros. Piggly Wiggly Customer Appreciation Days
DESCRIPTION:Fox Bros. Piggly Wiggly of Hartland and Oconomowoc would like to show our customers how much we appreciate their business. Fox Bros. Customer Appreciation Days are running from now through May 10th. We are capping off the celebration with a Carnival in Hartland on May 6th from 3:30pm to 6:30pm\, May 7th from 9:00am to 5:00pm and in Oconomowoc on May 13th from 3:30pm to 6:30pm\, and May 14th 9:00am to 5:00pm. Not only are we offering some of the best prices of the year on the things you need everyday\, but we are also giving you one free Carnival ride coupon with the purchase of any of the items from our Customer Appreciation Ads. Come out and enjoy the Carnival with an Award Winning Fox Bros Brat\, or double brat\, that we will be serving up hot and fresh at a price you have to see to believe.
X-ALT-DESC;FMTTYPE=text/html:Fox Bros. Piggly Wiggly of Hartland and Oconomowoc would like to show our customers how much we appreciate their business. Fox Bros. Customer Appreciation Days are running from now through May 10th. We are capping off the celebration with a Carnival in Hartland on May 6th from 3:30pm to 6:30pm\, May 7th from 9:00am to 5:00pm and in Oconomowoc on May 13th from 3:30pm to 6:30pm\, and May 14th 9:00am to 5:00pm. Not only are we offering some of the best prices of the year on the things you need everyday\, but we are also giving you one free Carnival ride coupon with the purchase of any of the items from our Customer Appreciation Ads. Come out and enjoy the Carnival with an Award Winning Fox Bros Brat\, or double brat\, that we will be serving up hot and fresh at a price you have to see to believe.
LOCATION:Fox Bros. Piggly Wiggly Hartland and Oconomowoc
UID:e.522.131707
SEQUENCE:3
DTSTAMP:20260422T165250Z
URL:https://business.hartland-wi.org/events/details/fox-bros-piggly-wiggly-customer-appreciation-days-04-26-2011-131707
END:VEVENT

END:VCALENDAR
