BEGIN:VCALENDAR
VERSION:2.0
PRODID:-//ChamberMaster//Event Calendar 2.0//EN
METHOD:PUBLISH
X-PUBLISHED-TTL:P3D
REFRESH-INTERVAL:P3D
CALSCALE:GREGORIAN
BEGIN:VEVENT
DTSTART:20120907T150000Z
DTEND:20120907T230000Z
X-MICROSOFT-CDO-ALLDAYEVENT:FALSE
SUMMARY:Fox Bros. Piggly Wiggly: Almost World Famous One Day Meat Sale
DESCRIPTION:Fox Bros. Piggly Wiggly is once again having its' popular one day Meat & Seafood $ale. Items on $ale for this one day event include: Certified Angus Beef  Whole Boneless Ribeyes $6.99/lb.\, Ceritfied Angus Beef  Whole Boneless Strips $5.99/lb.\, Farmland All Natural Whole Boneless Center Cut Pork Loin $2.29/lb.\, Certified Angus Beef  Whole Beef Tenderloin $9.99/lb\, and many more items at some of the lowest prices of the year.\n\nCut to order is FREE.  (There are order limits on select items and while supplies last.  Sorry no rain checks)
X-ALT-DESC;FMTTYPE=text/html:Fox Bros. Piggly Wiggly is once again having its&#39\; popular&nbsp\;one day Meat &amp\; Seafood&nbsp\;$ale. Items on $ale for this one day event include: Certified Angus Beef&nbsp\; Whole Boneless Ribeyes $6.99/lb.\, Ceritfied Angus Beef&nbsp\; Whole Boneless&nbsp\;Strips $5.99/lb.\, Farmland All Natural Whole Boneless Center Cut&nbsp\;Pork Loin $2.29/lb.\, Certified Angus Beef&nbsp\; Whole Beef Tenderloin $9.99/lb\, and many more items at some of the lowest prices of the year.<br />\nCut&nbsp\;to order&nbsp\;is FREE.&nbsp\;&nbsp\;(There are order limits on select items and while supplies last.&nbsp\; Sorry no rain checks) &nbsp\;
LOCATION:Hartland Piggly Wiggly on Friday and Oconomowoc Piggly Wiggly on Saturday from 8am to 4pm.
UID:e.522.130789
SEQUENCE:3
DTSTAMP:20260421T094214Z
URL:https://business.hartland-wi.org/events/details/fox-bros-piggly-wiggly-almost-world-famous-one-day-meat-sale-09-07-2012-130789
END:VEVENT

END:VCALENDAR
