BEGIN:VCALENDAR
VERSION:2.0
PRODID:-//ChamberMaster//Event Calendar 2.0//EN
METHOD:PUBLISH
X-PUBLISHED-TTL:P3D
REFRESH-INTERVAL:P3D
CALSCALE:GREGORIAN
BEGIN:VEVENT
DTSTART;VALUE=DATE:20111014
DTEND;VALUE=DATE:20111016
TRANSP:TRANSPARENT
X-MICROSOFT-CDO-ALLDAYEVENT:TRUE
SUMMARY:Fox Bros. 1 Day Meat Sale
DESCRIPTION:Get out the grill one more time\, Fox Bros. Piggly Wiggly is having one of our "Almost World Famous" One Day Meat Sales. Friday\, October 14th from 10 a.m. to 6 p.m. in Hartland and Saturday\, October 15th from 8 a.m. to 4p.m. in Oconomowoc. We will be taking preorders for those of you who would like to beat the lines. Just email your order to 092mgr@shopthepig.com for Hartland or 093mgr@shopthepig.com for Oconomowoc. We will then confirm your email order and have it ready for you when you want to come pick it up. Make sure you have the best meat you can buy for your family\, Certified Angus Beef\, only available at Fox Bros. Piggly Wiggly.  To view our ad click here.
X-ALT-DESC;FMTTYPE=text/html:Get out the grill one more time\, Fox Bros. Piggly Wiggly is having one of our &quot\;Almost World Famous&quot\; One Day Meat Sales. Friday\, October 14th from 10 a.m. to 6 p.m. in Hartland and Saturday\, October 15th from 8 a.m. to 4p.m. in Oconomowoc. We will be taking preorders for those of you who would like to beat the lines. Just email your order to 092mgr@shopthepig.com for Hartland or 093mgr@shopthepig.com for Oconomowoc. We will then confirm your email order and have it ready for you when you want to come pick it up. Make sure you have the best meat you can buy for your family\, Certified Angus Beef\, only available at Fox Bros. Piggly Wiggly.&nbsp\; <a href="http://www.shopthepig.com/pigad.php?store=092&amp\;ad=1">To view our ad click here</a>.
LOCATION:Hartland and Oconomowoc
UID:e.522.131773
SEQUENCE:3
DTSTAMP:20260422T042220Z
URL:https://business.hartland-wi.org/events/details/fox-bros-1-day-meat-sale-10-14-2011-131773
END:VEVENT

END:VCALENDAR
