BEGIN:VCALENDAR
VERSION:2.0
PRODID:-//ChamberMaster//Event Calendar 2.0//EN
METHOD:PUBLISH
X-PUBLISHED-TTL:P3D
REFRESH-INTERVAL:P3D
CALSCALE:GREGORIAN
BEGIN:VEVENT
DTSTART:20120623T010000Z
DTEND:20120623T030000Z
X-MICROSOFT-CDO-ALLDAYEVENT:FALSE
SUMMARY:Four Guyz in Dinner Jackets at SummerStage
DESCRIPTION:Look back to the 1950's and 1960's as the Four Guyz deliver an unbeatable production filled with glorious four-part harmony\, personality\, and humor. This show is guaranteed to delight audiences of all ages. Special "Raise the Roof" Concert Fundraiser
X-ALT-DESC;FMTTYPE=text/html:Look back to the 1950&rsquo\;s and 1960&rsquo\;s as the Four Guyz deliver an unbeatable production filled with glorious four-part harmony\, personality\, and humor. This show is guaranteed to delight audiences of all ages. Special &ldquo\;Raise the Roof&rdquo\; Concert Fundraiser
LOCATION:SummerStage in Lapham Peak State Park
UID:e.522.131946
SEQUENCE:3
DTSTAMP:20260421T161424Z
URL:https://business.hartland-wi.org/events/details/four-guyz-in-dinner-jackets-at-summerstage-06-22-2012-131946
END:VEVENT

END:VCALENDAR
