BEGIN:VCALENDAR
VERSION:2.0
PRODID:-//ChamberMaster//Event Calendar 2.0//EN
METHOD:PUBLISH
X-PUBLISHED-TTL:P3D
REFRESH-INTERVAL:P3D
CALSCALE:GREGORIAN
BEGIN:VEVENT
DTSTART:20120225T130000Z
DTEND:20120225T150000Z
X-MICROSOFT-CDO-ALLDAYEVENT:FALSE
SUMMARY:Focus on Manufacturing Breakfast
DESCRIPTION:Focus on Manufacturing Breakfast\n\n	Friday\, February 24\n\n	The Pfister Hotel\, Milwaukee\nWMC\, through the WMC Foundation\, is hosting a Focus on Manufacturing breakfast featuring experts to talk about manufacturing in Wisconsin\, the United States\, and around the world.\n\n\n\nSPEAKERS\n\nDan Ariens\, President & CEO\, Ariens Company\n\nBuckley Brinkman\, Executive Director\, Wisconsin Manufacturing Extension Partnership\n\nWes Irvin\, Vice President of Government Relations\, National Association of Manufacturers\n\nRich Meeusen\, Chairman\, President & CEO\, Badger Meter\, Inc.\n\nPaul S. Peercy\, Dean\, College of Engineering\, UW-Madison\n\n\n\nAGENDA\n\n7:00 am:  Networking and Registration\n\n7:30 am:  Breakfast and Program   Global Issues Impacting Manufacturing\; Threats and Opportunities for Manufacturers in the U.S.\; Manufacturing in Wisconsin and Around the World\n\n9:00 am:  Adjourn\n\n\n\nREGISTER\n\nCost is $40 per person. Register online or contact Katy Pettersen with any questions\, (608) 258-3400.
X-ALT-DESC;FMTTYPE=text/html:<h3 style="margin: 0in 0in 12pt">\n	<span style="font-size: 12pt"><span style="font-family: calibri\, sans-serif">Focus on Manufacturing Breakfast</span></span><br />\n	<span style="font-weight: normal"><span style="font-size: 11pt"><span style="font-family: calibri\, sans-serif">Friday\, February 24<br />\n	The Pfister Hotel\, Milwaukee</span></span></span></h3>\n<span style="font-size: 11pt"><span style="color: #022230"><span style="font-family: calibri\, sans-serif">WMC\, through the WMC Foundation\, is hosting a <em>Focus on Manufacturing</em> breakfast featuring experts to talk about manufacturing in Wisconsin\, the United States\, and around the world.<br />\n<br />\n<strong><u>SPEAKERS</u></strong></span></span></span><br />\n<span style="font-size: 11pt"><span style="color: #022230"><span style="font-family: calibri\, sans-serif">Dan Ariens\, President &amp\; CEO\, <strong>Ariens Company</strong><br />\nBuckley Brinkman\, Executive Director\, <strong>Wisconsin Manufacturing Extension Partnership</strong><br />\nWes Irvin\, Vice President of Government Relations\, <strong>National Association of Manufacturers</strong><br />\nRich Meeusen\, Chairman\, President &amp\; CEO\, <strong>Badger Meter\, Inc.</strong><br />\nPaul S. Peercy\, Dean\, <strong>College of Engineering\, UW-Madison</strong><br />\n<br />\n<strong><u>AGENDA</u></strong><br />\n7:00 am:&nbsp\; Networking and Registration<br />\n7:30 am:&nbsp\; Breakfast and Program &ndash\; Global Issues Impacting Manufacturing\; Threats and Opportunities for Manufacturers in the U.S.\; Manufacturing in Wisconsin and Around the World<br />\n9:00 am:&nbsp\; Adjourn</span></span></span><br />\n<br />\n<span style="font-size: 11pt"><span style="color: #022230"><span style="font-family: calibri\, sans-serif"><strong><u>REGISTER</u></strong><br />\nCost is $40 per person. <a href="http://wmc.informz.net/z/cjUucD9taT0yMTEwNDI4JnA9MSZ1PTEwMDAxODU5MTYmbGk9MTAwNjU5NDY/index.html"><span style="color: #0000ff">Register online</span></a></span> or contact <a href="mailto:kpettersen@wmc.org"><span style="color: #0000ff">Katy Pettersen</span></a></span> with any questions\, (608) 258-3400.&nbsp\;</span><br />\n
LOCATION:The Pfister Hotel\, Milwaukee
UID:e.522.131930
SEQUENCE:3
DTSTAMP:20260421T212008Z
URL:https://business.hartland-wi.org/events/details/focus-on-manufacturing-breakfast-02-25-2012-131930
END:VEVENT

END:VCALENDAR
