BEGIN:VCALENDAR
VERSION:2.0
PRODID:-//ChamberMaster//Event Calendar 2.0//EN
METHOD:PUBLISH
X-PUBLISHED-TTL:P3D
REFRESH-INTERVAL:P3D
CALSCALE:GREGORIAN
BEGIN:VEVENT
DTSTART:20180302T000000Z
DTEND:20180302T023000Z
X-MICROSOFT-CDO-ALLDAYEVENT:FALSE
SUMMARY:Feed My Lips
DESCRIPTION:Experience 23 new Aveda\n\nlip colors\, new liners\, and primers
X-ALT-DESC;FMTTYPE=text/html:<h2 style="text-align: center\;"><span style="font-family:arial\,helvetica\,sans-serif"><small><kbd><strong><span style="font-size:22px">Experience 23 new Aveda<br />\nlip colors\, new liners\, and primers</span></strong></kbd></small></span></h2>\n
LOCATION:Kirsten Salon 151 E. Capitol Drive Downtown Hartland
UID:e.522.137213
SEQUENCE:3
DTSTAMP:20260423T213824Z
URL:https://business.hartland-wi.org/events/details/feed-my-lips-137213
END:VEVENT

END:VCALENDAR
