BEGIN:VCALENDAR
VERSION:2.0
PRODID:-//ChamberMaster//Event Calendar 2.0//EN
METHOD:PUBLISH
X-PUBLISHED-TTL:P3D
REFRESH-INTERVAL:P3D
CALSCALE:GREGORIAN
BEGIN:VEVENT
DTSTART:20190305T230000Z
DTEND:20190306T020000Z
X-MICROSOFT-CDO-ALLDAYEVENT:FALSE
SUMMARY:FAT TUESDAY at Langer & Petersen Law Offices
DESCRIPTION:Langer & Petersen Law Offices\n\ncordially invites you to celebrate Mardi Gras 2019\n\nat our Hartland office.\n\n\n\nWhat:  Cocktails and Hors d'oeuvres\n\nWhen:  Tuesday\, March 5\, 2019  5:00 - 8:00 PM\n\nWhere:  155 E. Capitol Drive\, Hartland\n\n \n\nLanger & Petersen is a general practice law firm providing\n\nlegal representation to individuals\, families and businesses throughout Wisconsin.
X-ALT-DESC;FMTTYPE=text/html:<div style="text-align: center\;"><span style="font-size:14px\;"><span style="color:#0000FF\;"><em><strong>Langer &amp\; Petersen Law Offices</strong></em></span></span><br />\n<span style="color:#0000FF\;">cordially invites you to celebrate Mardi Gras 2019<br />\nat our Hartland office.</span><br />\n<br />\n<span style="color:#800080\;">What:&nbsp\; Cocktails and Hors d&#39\;oeuvres<br />\nWhen:&nbsp\; Tuesday\, March 5\, 2019&nbsp\; 5:00 - 8:00 PM<br />\nWhere:&nbsp\; 155 E. Capitol Drive\, Hartland</span><br />\n&nbsp\;</div>\n\n<div style="text-align: center\;">Langer &amp\; Petersen is a general practice law firm providing<br />\nlegal representation to individuals\, families and businesses throughout Wisconsin.</div>\n
LOCATION:155 E. Capitol Drive Hartland\, WI 53029
UID:e.522.137705
SEQUENCE:3
DTSTAMP:20260424T180555Z
URL:https://business.hartland-wi.org/events/details/fat-tuesday-at-langer-petersen-law-offices-137705
END:VEVENT

END:VCALENDAR
