BEGIN:VCALENDAR
VERSION:2.0
PRODID:-//ChamberMaster//Event Calendar 2.0//EN
METHOD:PUBLISH
X-PUBLISHED-TTL:P3D
REFRESH-INTERVAL:P3D
CALSCALE:GREGORIAN
BEGIN:VEVENT
DTSTART:20140304T230000Z
DTEND:20140305T020000Z
X-MICROSOFT-CDO-ALLDAYEVENT:FALSE
SUMMARY:FAT TUESDAY
DESCRIPTION:Langer & Petersen Law Office cordially invites you to celebrate\n\nMardi Gras 2014 at our Hartland office.\n\n\n\nPlease join us for Cocktails and Hors d'oeuvres!
X-ALT-DESC;FMTTYPE=text/html:<div style="text-align: center\;"><em><strong><span style="color: rgb(75\, 0\, 130)\;">Langer &amp\; Petersen Law Office cordially invites you to celebrate<br />\nMardi Gras 2014 at our Hartland office.<br />\n<br />\nPlease join us for Cocktails and Hors d&#39\;oeuvres!</span></strong></em></div>\n
LOCATION:Langer & Petersen\, LLC 155 E. Capitol Dr.\, Suite 3 Hartland\, WI 53029
UID:e.522.132819
SEQUENCE:3
DTSTAMP:20260420T161336Z
URL:https://business.hartland-wi.org/events/details/fat-tuesday-03-04-2014-132819
END:VEVENT

END:VCALENDAR
