BEGIN:VCALENDAR
VERSION:2.0
PRODID:-//ChamberMaster//Event Calendar 2.0//EN
METHOD:PUBLISH
X-PUBLISHED-TTL:P3D
REFRESH-INTERVAL:P3D
CALSCALE:GREGORIAN
BEGIN:VEVENT
DTSTART:20150217T230000Z
DTEND:20150218T020000Z
X-MICROSOFT-CDO-ALLDAYEVENT:FALSE
SUMMARY:FAT TUESDAY
DESCRIPTION:Langer & Petersen Law Office cordially invites you to celebrate\n\nMardi Gras 2015 at our Hartland office.\n\n\n\nPlease join us for Cocktails and Hors d'oeuvres!
X-ALT-DESC;FMTTYPE=text/html:<div style="text-align: center\;"><em><strong><span style="color: rgb(75\, 0\, 130)\;">Langer &amp\; Petersen Law Office cordially invites you to celebrate<br />\nMardi Gras 2015 at our <u>Hartland</u> office.<br />\n<br />\nPlease join us for Cocktails and Hors d&#39\;oeuvres!</span></strong></em></div>\n
LOCATION:Langer & Petersen\, LLC 155 E. Capitol Dr. Hartland\, WI 53029
UID:e.522.133135
SEQUENCE:3
DTSTAMP:20260421T060316Z
URL:https://business.hartland-wi.org/events/details/fat-tuesday-02-17-2015-133135
END:VEVENT

END:VCALENDAR
