BEGIN:VCALENDAR
VERSION:2.0
PRODID:-//ChamberMaster//Event Calendar 2.0//EN
METHOD:PUBLISH
X-PUBLISHED-TTL:P3D
REFRESH-INTERVAL:P3D
CALSCALE:GREGORIAN
BEGIN:VEVENT
DTSTART:20120303T003000Z
DTEND:20120303T020000Z
X-MICROSOFT-CDO-ALLDAYEVENT:FALSE
SUMMARY:Family Trivia Night
DESCRIPTION:LIFE Charter School in Hartland invites the Hartland Community to join us for an entertaining game of trivia!  Form a team of 8 or less and see if your team has what it takes to win.  You will work together as a team\, submitting your answers for each round. \n\n\n\nParticipants are encouraged to create a theme for their team.  Attire and table decor are a great way to express your theme.\n\n\n\n All participant registration must be received by Friday\, February 24th.\n\nPlease email Rebecca Rebholz at rebreb@thechiropractors.biz for a registration form \n\n	\n\n	Business Sponsorships available\, contact Rebecca Rebholz for more information at rebreb@thechiropractors.biz
X-ALT-DESC;FMTTYPE=text/html:<font face="Tahoma\, Verdana\, Helvetica\, Arial"><span style="font-size:12pt">LIFE Charter School in Hartland invites the Hartland Community to join us for an entertaining game of trivia!&nbsp\; Form a team of 8 or less and see if your team has what it takes to win.&nbsp\; You will work together as a team\, submitting your answers for each round.&nbsp\;<br />\n<br />\nParticipants are encouraged to create a theme for their team.&nbsp\; Attire and table decor are a great way to express your theme.<br />\n</span><br />\n<font size="4"><span style="font-size:14pt"> </span></font><span style="font-size:12pt">All participant registration must be received by<b> Friday\, February 24th</b>.<br />\nPlease email Rebecca Rebholz at <a href="rebreb@thechiropractors.biz">rebreb@thechiropractors.biz</a> for a registration form </span></font>\n<p align="CENTER">\n	<br />\n	<font face="Tahoma\, Verdana\, Helvetica\, Arial"><font color="#0000FE"><font size="4"><span style="font-size:14pt"><b>Business Sponsorships available\, contact Rebecca Rebholz for more information at <a href="rebreb@thechiropractors.biz">rebreb@thechiropractors.biz</a> </b></span></font></font></font></p>
LOCATION:North Shore Middle School 800 North Shore Drive Hartland\, WI 53029
UID:e.522.131924
SEQUENCE:3
DTSTAMP:20260421T194323Z
URL:https://business.hartland-wi.org/events/details/family-trivia-night-03-02-2012-131924
END:VEVENT

END:VCALENDAR
