BEGIN:VCALENDAR
VERSION:2.0
PRODID:-//ChamberMaster//Event Calendar 2.0//EN
METHOD:PUBLISH
X-PUBLISHED-TTL:P3D
REFRESH-INTERVAL:P3D
CALSCALE:GREGORIAN
BEGIN:VEVENT
DTSTART:20190216T160000Z
DTEND:20190216T210000Z
X-MICROSOFT-CDO-ALLDAYEVENT:FALSE
SUMMARY:Family Fun Fair
DESCRIPTION:Come in out of the cold!  Zion Lutheran School invites you to attend their annual FREE Family Fun Fair.  Enjoy games\, prizes\, bouncy slide\, tot Lot (ages1-3) with their own bouncy house\, hot dog lunch\, root beer floats\, and much more.  Please join us!
X-ALT-DESC;FMTTYPE=text/html:Come in out of the cold!&nbsp\; Zion Lutheran School invites you to attend their annual <strong>FREE</strong> Family Fun Fair.&nbsp\; Enjoy games\, prizes\, bouncy slide\, tot Lot (ages1-3) with their own bouncy house\, hot dog lunch\, root beer floats\, and much more.&nbsp\; Please join us!
LOCATION:Zion Lutheran School 1023 East Capitol Drive Hartland\, WI. 53029
UID:e.522.137619
SEQUENCE:3
DTSTAMP:20260424T160406Z
URL:https://business.hartland-wi.org/events/details/family-fun-fair-137619
END:VEVENT

END:VCALENDAR
