BEGIN:VCALENDAR
VERSION:2.0
PRODID:-//ChamberMaster//Event Calendar 2.0//EN
METHOD:PUBLISH
X-PUBLISHED-TTL:P3D
REFRESH-INTERVAL:P3D
CALSCALE:GREGORIAN
BEGIN:VEVENT
DTSTART:20111208T160000Z
DTEND:20111210T230000Z
X-MICROSOFT-CDO-ALLDAYEVENT:FALSE
SUMMARY:Event at Sunburst Apparel\, Inc.
DESCRIPTION:Holiday Tee Shirt Warehouse Sale!!!\n\n	\n\n	Need some last minute stocking stuffers?\n\n	\n		Stop in at our Warehouse located at 340 Maple Ave. We have shirts available for $2.00 - $5.00 each. We have tons of shirts with a huge variety of designs.\n	\n		Hours are Thursday Dec. 8th and Friday Dec. 9th from 10am till 5 pm and Saturday\, Dec. 10th\, from 10 am till 2 pm.\n	\n		We are always adding new designs\, so if you have been here before you will be sure to find something new.\n\n\n	See you there!\n\n	Merry Christmas from all of us at Sunburst Apparel.
X-ALT-DESC;FMTTYPE=text/html:<p>\n	<span style="font-size: 16px"><em><strong><span style="color: #ff0000">Holiday Tee Shirt Warehouse Sale!!!</span></strong></em></span><br />\n	<br />\n	Need some last minute stocking stuffers?</p>\n<ul>\n	<li>\n		Stop in at our Warehouse located at 340 Maple Ave. We have shirts available for <span style="background-color: lime">$2.00 - $5.00 each</span>. We have tons of shirts with&nbsp\;a&nbsp\;huge variety of designs.</li>\n	<li>\n		Hours are Thursday Dec. 8th and Friday Dec. 9th from 10am till 5 pm and Saturday\, Dec. 10th\,&nbsp\;from 10 am till 2 pm.</li>\n	<li>\n		We are always adding new designs\, so if you have been here before you will be sure to find something new.</li>\n</ul>\n<p>\n	See you there!<br />\n	Merry Christmas from all of us at Sunburst Apparel.</p>\n
LOCATION:340 Maple Ave.
UID:e.522.131783
SEQUENCE:3
DTSTAMP:20260422T005418Z
URL:https://business.hartland-wi.org/events/details/event-at-sunburst-apparel-inc-12-08-2011-131783
END:VEVENT

END:VCALENDAR
