BEGIN:VCALENDAR
VERSION:2.0
PRODID:-//ChamberMaster//Event Calendar 2.0//EN
METHOD:PUBLISH
X-PUBLISHED-TTL:P3D
REFRESH-INTERVAL:P3D
CALSCALE:GREGORIAN
BEGIN:VEVENT
DTSTART:20120531T130000Z
DTEND:20120531T150000Z
X-MICROSOFT-CDO-ALLDAYEVENT:FALSE
SUMMARY:Event at Retirement Plan Solutions - Emil Weatherbee
DESCRIPTION:Please join us to learn about Department Of Labor\n\n	regulatory changes affecting qualified (i.e. 401k)\n\n	plans effective July 1\, 2012:\n\n	 \n\n	Thursday\, May 31\, 8:00 am   10:00 am \n\n	Retirement Plan Solutions\n\n	394 Williamstowne\, Suite 101\n\n	Delafield\, WI 53018\n\n	(breakfast provided)\n\n	\n\n	TO REGISTER:\n\n	Call Pam at 262.641.0800 OR \n\n	Email: pam@rplansolutions.com
X-ALT-DESC;FMTTYPE=text/html:<p align="center" class="MsoNormal" style="text-align: center\; margin: 0in 0in 0pt">\n	<b><span lang="EN" style="font-family: 'Arial'\, 'sans-serif'\; color: black\; font-size: 12pt\; mso-ansi-language: EN">Please join us to learn about&nbsp\;Department Of Labor<br />\n	regulatory changes affecting qualified (i.e. 401k)<br />\n	plans effective July 1\, 2012:</span></b><br />\n	&nbsp\;</p>\n<p align="center" class="MsoNormal" style="text-align: center\; margin: 0in 0in 0pt">\n	<b><span lang="EN" style="font-family: 'Arial'\, 'sans-serif'\; color: #c00000\; font-size: 12pt\; mso-ansi-language: EN">Thursday\, May 31\, 8:00 am &ndash\; 10:00 am </span></b></p>\n<p align="center" class="MsoNormal" style="text-align: center\; margin: 0in 0in 0pt">\n	<b><span lang="EN" style="font-family: 'Arial'\, 'sans-serif'\; color: black\; font-size: 12pt\; mso-ansi-language: EN">Retirement Plan Solutions</span></b></p>\n<p align="center" class="MsoNormal" style="text-align: center\; margin: 0in 0in 0pt">\n	<b><span lang="EN" style="font-family: 'Arial'\, 'sans-serif'\; color: black\; font-size: 12pt\; mso-ansi-language: EN">394 Williamstowne\, Suite 101</span></b></p>\n<p align="center" class="MsoNormal" style="text-align: center\; margin: 0in 0in 0pt">\n	<b><span lang="EN" style="font-family: 'Arial'\, 'sans-serif'\; color: black\; font-size: 12pt\; mso-ansi-language: EN">Delafield\, WI 53018</span></b><br />\n	<b><span lang="EN" style="font-family: 'Arial'\, 'sans-serif'\; color: black\; font-size: 12pt\; mso-ansi-language: EN">(<i>breakfast provided)</i></span></b><br />\n	<br />\n	<b><span style="color: #b22222"><span lang="EN" style="font-family: 'Arial'\, 'sans-serif'\; font-size: 12pt\; mso-ansi-language: EN">TO REGISTER:</span></span><br />\n	<span lang="EN" style="font-family: 'Arial'\, 'sans-serif'\; color: black\; font-size: 12pt\; mso-ansi-language: EN">Call Pam at 262.641.0800 OR&nbsp\;<br />\n	Email: <u>pam@rplansolutions.com</u></span></b><br />\n	&nbsp\;</p>\n
LOCATION:Retirement Plan Solutions 394 Williamstowne\, Suite 101 Delafield\, WI 53018
UID:e.522.131957
SEQUENCE:3
DTSTAMP:20260421T161224Z
URL:https://business.hartland-wi.org/events/details/event-at-retirement-plan-solutions-emil-weatherbee-05-31-2012-131957
END:VEVENT

END:VCALENDAR
