BEGIN:VCALENDAR
VERSION:2.0
PRODID:-//ChamberMaster//Event Calendar 2.0//EN
METHOD:PUBLISH
X-PUBLISHED-TTL:P3D
REFRESH-INTERVAL:P3D
CALSCALE:GREGORIAN
BEGIN:VEVENT
DTSTART:20110807T000000Z
DTEND:20110807T020000Z
X-MICROSOFT-CDO-ALLDAYEVENT:FALSE
SUMMARY:Event at Our Savior's Evangelical Lutheran Church
DESCRIPTION:Benefit Concert Featuring\n\n	Tim Urban\n\n	American Idol Season 9 Top 10 Finalist!\n\n	All proceeds to benefit Our Savior's local and global outreach missions.  Tickest available at Our Saviors M-Th\, 9 am to 3 pm or in Hartland Music at 1125 James Dr.\, Hartland
X-ALT-DESC;FMTTYPE=text/html:<h1>\n	<span style="color: #0000cd">Benefit Concert Featuring</span><br />\n	<span style="color: #ff0000">Tim Urban</span><br />\n	<span style="font-size: 22px"><span style="color: #0000cd">American Idol Season 9 Top 10 Finalist!</span></span><br />\n	<span style="font-size: 16px"><span style="font-family: times new roman">All proceeds to benefit Our Savior&#39\;s local and global outreach missions.&nbsp\; Tickest available at Our Saviors M-Th\, 9 am to 3 pm or in Hartland Music at 1125 James Dr.\, Hartland </span></span></h1>\n
LOCATION:W299 N5782 Country Rd E Hartland\, WI 53029
UID:e.522.131744
SEQUENCE:3
DTSTAMP:20260420T125411Z
URL:https://business.hartland-wi.org/events/details/event-at-our-savior-s-evangelical-lutheran-church-08-06-2011-131744
END:VEVENT

END:VCALENDAR
