BEGIN:VCALENDAR
VERSION:2.0
PRODID:-//ChamberMaster//Event Calendar 2.0//EN
METHOD:PUBLISH
X-PUBLISHED-TTL:P3D
REFRESH-INTERVAL:P3D
CALSCALE:GREGORIAN
BEGIN:VEVENT
DTSTART:20120429T000000Z
DTEND:20120429T020000Z
X-MICROSOFT-CDO-ALLDAYEVENT:FALSE
SUMMARY:Event at Our Savior's Evangelical Lutheran Church
DESCRIPTION:Concert\n\n	Family-friendly entertainment performed by Eternity\nEnjoy this updated version of gospel quartet harmony in the style of the Oak Ridge Boys\, Statler Brothers\, Gaither Vocal Band and Signaure Sound.\n\nSee a clip at www.oursaviorshartland.org\n\nLearn more information about the group at www.eternitysings.com
X-ALT-DESC;FMTTYPE=text/html:<h1 style="text-align: center\; color: blue">\n	<span style="font-size: 48px">Concert</span></h1>\n<h1 style="color: blue">\n	<span style="font-size: 28px">Family-friendly entertainment performed by</span> <span style="font-size: 36px">Eternity</span></h1>\n<span style="font-size: 22px">Enjoy this updated version of gospel quartet harmony in the style of the Oak Ridge Boys\, Statler Brothers\, Gaither Vocal Band and Signaure Sound.</span><br />\n<span style="font-size: 14px"><span style="font-family: times new roman">See a clip at www.oursaviorshartland.org<br />\nLearn more information about the group at www.eternitysings.com</span></span>
LOCATION:W299 N5782 County Rd E Hartland\, WI 53029 (just north of Arrowhead HS and Swallow School)
UID:e.522.131952
SEQUENCE:3
DTSTAMP:20260421T194650Z
URL:https://business.hartland-wi.org/events/details/event-at-our-savior-s-evangelical-lutheran-church-04-28-2012-131952
END:VEVENT

END:VCALENDAR
