BEGIN:VCALENDAR
VERSION:2.0
PRODID:-//ChamberMaster//Event Calendar 2.0//EN
METHOD:PUBLISH
X-PUBLISHED-TTL:P3D
REFRESH-INTERVAL:P3D
CALSCALE:GREGORIAN
BEGIN:VEVENT
DTSTART:20140516T230000Z
DTEND:20140517T010000Z
X-MICROSOFT-CDO-ALLDAYEVENT:FALSE
SUMMARY:Event at Lake Country Fine Arts School & Gallery "Art-kid-tecture"
DESCRIPTION:Art-Kid-Tecture Art Show - A Walk Through the Village\n\n\n\n\n\n\n\n\n\nLake Country Fine Arts School and Gallery (LCFASG) in Downtown Hartland\, known for featuring artwork of local artists and teaching art to students of all ages and abilities\, is collaborating with Hartland Fine Arts Leadership Academy (HFALA)\, Hartland Lakeside School District's newest charter school\, to exhibit clay sculptures of Downtown Hartland landmark buildings and structures.\n\nThe children have visited LCFASG to create their clay building\, replicating the brick\, siding\, windows shutters\, shingles and more.  Then they will visit the studio again to glaze the buildings with  colors\, some realistic and some with a more idealized\,  Dr. Seuss type of influence.  The art show will feature these buildings in a village scene display.\n\nFor any more information about the Lake Country Fine Arts or "Art-Kid-Tecture Art Show\,"
X-ALT-DESC;FMTTYPE=text/html:Art-Kid-Tecture Art Show - A Walk Through the Village<br />\n<br />\n<br />\n<br />\n<br />\nLake Country Fine Arts School and Gallery (LCFASG) in Downtown Hartland\, known for featuring artwork of local artists and teaching art to students of all ages and abilities\, is collaborating with Hartland Fine Arts Leadership Academy (HFALA)\, Hartland Lakeside School District&rsquo\;s newest charter school\, to exhibit clay sculptures of Downtown Hartland landmark buildings and structures.<br />\nThe children have visited LCFASG to create their clay building\, replicating the brick\, siding\, windows shutters\, shingles and more.&nbsp\; Then they will visit the studio again to glaze the buildings with&nbsp\; colors\, some realistic and some with a more idealized\,&nbsp\; Dr. Seuss type of influence.&nbsp\; The art show will feature these buildings in a village scene display.<br />\nFor any more information about the Lake Country Fine Arts or &ldquo\;Art-Kid-Tecture Art Show\,&rdquo\;
LOCATION:Lake Country Fine Arts School and Gallery 112 W. Capitol Dr. Hartland\, WI 53029
UID:e.522.133059
SEQUENCE:3
DTSTAMP:20260420T124147Z
URL:https://business.hartland-wi.org/events/details/event-at-lake-country-fine-arts-school-gallery-art-kid-tecture-05-16-2014-133059
END:VEVENT

END:VCALENDAR
