BEGIN:VCALENDAR
VERSION:2.0
PRODID:-//ChamberMaster//Event Calendar 2.0//EN
METHOD:PUBLISH
X-PUBLISHED-TTL:P3D
REFRESH-INTERVAL:P3D
CALSCALE:GREGORIAN
BEGIN:VEVENT
DTSTART:20140328T000000Z
DTEND:20140328T020000Z
X-MICROSOFT-CDO-ALLDAYEVENT:FALSE
SUMMARY:Event at Lake Country Congregational Church
DESCRIPTION:"Gathering at the Meetinghouse" - Speaker Forum \n\n \n\nOn Thursday\, March 27th at 7 PM come to the church and learn why the Dead Sea Scrolls are more relevant than ever.  Dr. Dempsey is an associate professor in the Department of Theology at Marquette University. She has taught courses on the Dead Sea Scrolls\, as well as courses on a variety of Old Testament books.
X-ALT-DESC;FMTTYPE=text/html:<span style="font-weight: bold\; language: en-US\;"><span style="font-family: arial\;"><span style="font-size: 14pt\;">&ldquo\;Gathering at the Meetinghouse&rdquo\; </span></span></span><span style="font-family: arial\;"><span style="font-size: 14pt\;">- </span></span><span style="font-weight: bold\; language: en-US\;"><span style="font-family: arial\;"><span style="font-size: 14pt\;">Speaker Forum </span></span></span><br />\n&nbsp\;<br />\n<span style="font-family: arial\;"><span style="font-size: 11pt\;">On Thursday\, March 27</span></span><span style="font-family: arial\;"><span style="font-size: 7.325pt\;"><sup>th</sup></span></span><span style="font-family: arial\;"><span style="font-size: 11pt\;"> at 7 PM come to the church and learn why the </span></span><span style="font-weight: bold\; language: en-US\;"><span style="font-family: arial\;"><span style="font-size: 11pt\;">Dead Sea Scrolls </span></span></span><span style="font-family: arial\;"><span style="font-size: 11pt\;">are more relevant than ever.&nbsp\; </span></span><span style="color: rgb(34\, 30\, 31)\;"><span style="font-family: arial\;"><span style="font-size: 11pt\;">Dr. Dempsey is an associate professor in the Department of Theology at Marquette University. She has taught courses on the Dead Sea Scrolls\, as well as courses on a variety of Old Testament books. </span></span></span><br />\n&nbsp\;
LOCATION:Lake Country Congregational Church
UID:e.522.132827
SEQUENCE:3
DTSTAMP:20260420T163207Z
URL:https://business.hartland-wi.org/events/details/event-at-lake-country-congregational-church-03-27-2014-132827
END:VEVENT

END:VCALENDAR
