BEGIN:VCALENDAR
VERSION:2.0
PRODID:-//ChamberMaster//Event Calendar 2.0//EN
METHOD:PUBLISH
X-PUBLISHED-TTL:P3D
REFRESH-INTERVAL:P3D
CALSCALE:GREGORIAN
BEGIN:VEVENT
DTSTART:20130411T223000Z
DTEND:20130412T003000Z
X-MICROSOFT-CDO-ALLDAYEVENT:FALSE
SUMMARY:Event at Global View Capital Advisors - Women's Division
DESCRIPTION:Wine\, Women & Wealth: Leaving an Imprint\n\n	This event is designed by women for women. Join us as we explore...\n\n	\n		What is your financial personality and style?\n	\n		What about money is important to you?\n	\n		How would you like to leave a legacy?\n\n\n	This will be fun\, educational and inspirational!
X-ALT-DESC;FMTTYPE=text/html:<p>\n	<span style="color: rgb(0\, 51\, 102)\; font-size: small\;">Wine\, Women &amp\; Wealth: Leaving an Imprint</span><br />\n	<span style="color: rgb(0\, 51\, 102)\; font-size: x-small\;">This event is designed by women for women. </span><span style="color: rgb(0\, 51\, 102)\; font-size: x-small\;">Join us as we explore...</span></p>\n<ul class="pod__section__block icon-list icon-list-sidebar">\n	<li>\n		<span style="color: rgb(0\, 51\, 102)\; font-size: x-small\;"><span style="color: rgb(0\, 51\, 102)\; font-size: x-small\;"><span style="color: rgb(0\, 51\, 102)\; font-size: x-small\;">What is <strong>your</strong> financial personality and style?</span></span></span></li>\n	<li>\n		<span style="color: rgb(0\, 51\, 102)\; font-size: x-small\;">What about money is important to <strong>you</strong>?</span></li>\n	<li>\n		<span style="color: rgb(0\, 51\, 102)\; font-size: x-small\;">How would <strong>you</strong> like to leave a legacy?</span></li>\n</ul>\n<p>\n	<span style="color: rgb(0\, 51\, 102)\;">This will be fun\, educational and inspirational!</span></p>\n
LOCATION:Roots Cafe ?124 East Wisconsin Avenue\, Address Line 2 Oconomowoc\, WI 53066
UID:e.522.132372
SEQUENCE:3
DTSTAMP:20260420T213712Z
URL:https://business.hartland-wi.org/events/details/event-at-global-view-capital-advisors-women-s-division-04-11-2013-132372
END:VEVENT

END:VCALENDAR
