BEGIN:VCALENDAR
VERSION:2.0
PRODID:-//ChamberMaster//Event Calendar 2.0//EN
METHOD:PUBLISH
X-PUBLISHED-TTL:P3D
REFRESH-INTERVAL:P3D
CALSCALE:GREGORIAN
BEGIN:VEVENT
DTSTART;VALUE=DATE:20120511
DTEND;VALUE=DATE:20120513
TRANSP:TRANSPARENT
X-MICROSOFT-CDO-ALLDAYEVENT:TRUE
SUMMARY:Event at Fox Bros. Piggly Wiggly\, Inc.
DESCRIPTION:Fox Bros. Piggly Wiggly of Hartland:\n\nPROUDLY announce the annual Customer Appreciation Carnival Weekend:\n\n\n\nMay 11th (Friday) from: 3:30PM - 6:30PM  (The Brat Shed will be open 9AM - 6:30PM)\n\nMay 12th (Saturday) from 9AM - 5PM (The Brat Shed will be open 9AM - 5PM)\n\n\n\nPlease see our weekly flyer to earn FREE CHILDREN CARNIVAL RIDE COUPONS\n\non specially assigned and priced products.   $ave and earn free ride tickets.... what a deal.\n\n\n\nIts our way of showing you how much we appreciate your business!\n\nAny questions please contact the store at (262)367-2922
X-ALT-DESC;FMTTYPE=text/html:<span style="font-size: 20px"><strong>Fox Bros. Piggly Wiggly of Hartland:</strong></span><br />\nPROUDLY announce the annual <span style="font-size: 16px"><u><strong>Customer Appreciation Carnival Weekend:</strong></u></span><br />\n<br />\nMay 11th (Friday)&nbsp\;from: 3:30PM - 6:30PM&nbsp\; (The Brat Shed will be open 9AM - 6:30PM)<br />\nMay 12th (Saturday) from 9AM - 5PM (The Brat Shed will be open 9AM - 5PM)<br />\n<br />\nPlease see our weekly flyer to earn <strong>FREE</strong> CHILDREN CARNIVAL RIDE COUPONS<br />\non specially assigned and priced&nbsp\;products.&nbsp\;&nbsp\;&nbsp\;$ave and earn free ride tickets.... what a deal.<br />\n<br />\nIts our way of showing you how much we appreciate your business!<br />\nAny questions please contact the store at (262)367-2922
LOCATION:Fox Bros. Piggly Wiggly of Hartland
UID:e.522.131954
SEQUENCE:3
DTSTAMP:20260421T175705Z
URL:https://business.hartland-wi.org/events/details/event-at-fox-bros-piggly-wiggly-inc-05-11-2012-131954
END:VEVENT

END:VCALENDAR
