BEGIN:VCALENDAR
VERSION:2.0
PRODID:-//ChamberMaster//Event Calendar 2.0//EN
METHOD:PUBLISH
X-PUBLISHED-TTL:P3D
REFRESH-INTERVAL:P3D
CALSCALE:GREGORIAN
BEGIN:VEVENT
DTSTART;VALUE=DATE:20120309
DTEND;VALUE=DATE:20120310
TRANSP:TRANSPARENT
X-MICROSOFT-CDO-ALLDAYEVENT:TRUE
SUMMARY:Event at Fox Bros. Piggly Wiggly\, Inc.
DESCRIPTION:ONE-DAY SEAFOOD SPECTACULAR $ALE!!\n\nMARCH 9th:  10am to 6pm\n\n\n	\n		Fresh Cod Fillets:  $5.99 lb.\n	\n		Wild Caught Raw Texas Gulf Brown Shrimp: $6.99 lb.\n	\n		Wild Caught Sockeye Salmon: $7.99 lb.\n	\n		Fresh Salmon Fillets: $6.99 lb.\n	\n		Sea Scallops: $10.99 lb.\n	\n		Fresh Tipapia Fillets: $5.99 lb.\n	\n		Cooked Shrimp: 26-30ct: $7.99 (1 lb. bag)\n	\n		Mahi Mahi: $8.99 lb.\n	\n		Orange Roughy: $8.99 lb.\n	\n		Ahi Tuna Loin: $8.99 lb.\n\n\n\nWhile supplies last... sorry no rainchecks
X-ALT-DESC;FMTTYPE=text/html:<strong>ONE-DAY SEAFOOD SPECTACULAR $ALE!!<br />\nMARCH 9th:&nbsp\; 10am to 6pm</strong><br />\n<ul>\n	<li>\n		Fresh Cod Fillets:&nbsp\; $5.99 lb.</li>\n	<li>\n		Wild Caught Raw Texas Gulf Brown Shrimp: $6.99 lb.</li>\n	<li>\n		Wild Caught Sockeye Salmon: $7.99 lb.</li>\n	<li>\n		Fresh Salmon Fillets: $6.99 lb.</li>\n	<li>\n		Sea Scallops: $10.99 lb.</li>\n	<li>\n		Fresh Tipapia Fillets: $5.99 lb.</li>\n	<li>\n		Cooked Shrimp: 26-30ct: $7.99 (1 lb. bag)</li>\n	<li>\n		Mahi Mahi: $8.99 lb.</li>\n	<li>\n		Orange Roughy: $8.99 lb.</li>\n	<li>\n		Ahi Tuna Loin: $8.99 lb.</li>\n</ul>\n<br />\nWhile supplies last... sorry no rainchecks
LOCATION:Hartland
UID:e.522.131933
SEQUENCE:3
DTSTAMP:20260421T194444Z
URL:https://business.hartland-wi.org/events/details/event-at-fox-bros-piggly-wiggly-inc-03-09-2012-131933
END:VEVENT

END:VCALENDAR
