BEGIN:VCALENDAR
VERSION:2.0
PRODID:-//ChamberMaster//Event Calendar 2.0//EN
METHOD:PUBLISH
X-PUBLISHED-TTL:P3D
REFRESH-INTERVAL:P3D
CALSCALE:GREGORIAN
BEGIN:VEVENT
DTSTART:20120127T160000Z
DTEND:20120128T000000Z
X-MICROSOFT-CDO-ALLDAYEVENT:FALSE
SUMMARY:Event at Fox Bros. Piggly Wiggly\, Inc.
DESCRIPTION:Fox Bros. Piggly Wiggly in Hartland iis once again having a one day meat sale. Items on $ale for this one day event include\; Certified Angus Beef Whole Boneless Ribeyes $5.99/lb.\, Ceritfied Angus Beef Whole Boneless New York Strips $5.99/lb.\, Farmland All Natural Whole boneless Pork Loin $2.99/lb.\, Certified Angus Beef Whole Beef Tenderloin $9.99/lb\, and many more items at some of the lowest prices of the year.\n\nPlease click here for more great deals:http://www.shopthepig.com/pigad.php?store=092
X-ALT-DESC;FMTTYPE=text/html:Fox Bros. Piggly Wiggly in Hartland iis once again having a one day meat sale. Items on $ale for this one day event include\; Certified Angus Beef Whole Boneless Ribeyes $5.99/lb.\, Ceritfied Angus Beef Whole Boneless New York Strips $5.99/lb.\, Farmland All Natural Whole boneless Pork Loin $2.99/lb.\, Certified Angus Beef Whole Beef Tenderloin $9.99/lb\, and many more items at some of the lowest prices of the year.<br />\nPlease click here for more great deals:<span style="font-size: 12pt"><span style="font-family: times new roman\, serif"><a href="http://www.shopthepig.com/pigad.php?store=092"><span style="font-size: 10pt"><span style="font-family: arial\, sans-serif"><span style="color: #0000ff">http://www.shopthepig.com/pigad.php?store=092</span></span></span></a></span></span>&nbsp\;
LOCATION:Hartland Piggly Wiggly on Friday 01-27-2012 from 10 am - 6 pm Oconomowoc Piggly Wiggly on Saturday 01-28-11from 10 am to 6 pm
UID:e.522.131922
SEQUENCE:3
DTSTAMP:20260422T005557Z
URL:https://business.hartland-wi.org/events/details/event-at-fox-bros-piggly-wiggly-inc-01-27-2012-131922
END:VEVENT

END:VCALENDAR
