BEGIN:VCALENDAR
VERSION:2.0
PRODID:-//ChamberMaster//Event Calendar 2.0//EN
METHOD:PUBLISH
X-PUBLISHED-TTL:P3D
REFRESH-INTERVAL:P3D
CALSCALE:GREGORIAN
BEGIN:VEVENT
DTSTART:20130908T160000Z
DTEND:20130908T180000Z
X-MICROSOFT-CDO-ALLDAYEVENT:FALSE
SUMMARY:Event at Church of the Resurrection - Tailgate Themed Carnival / Rally Day
DESCRIPTION:Church of the Resurrection welcomes you to Rally Day on September 8 for our annual picnic and  "Tailgate Themed" carnival\n\nJoin us for the 10:00 a.m. service and stay for the fun!!!
X-ALT-DESC;FMTTYPE=text/html:Church of the Resurrection welcomes you to Rally Day on September 8 for&nbsp\;our annual picnic and&nbsp\; &quot\;Tailgate Themed&quot\; carnival<br />\nJoin us for the&nbsp\;10:00 a.m. service and stay for the fun!!!<br />\n
LOCATION:W287 N3700 North Shore Drive Pewaukee\, WI 53072 (262) 691-7700
UID:e.522.132759
SEQUENCE:3
DTSTAMP:20260420T124341Z
URL:https://business.hartland-wi.org/events/details/event-at-church-of-the-resurrection-tailgate-themed-carnival-rally-day-09-08-2013-132759
END:VEVENT

END:VCALENDAR
