BEGIN:VCALENDAR
VERSION:2.0
PRODID:-//ChamberMaster//Event Calendar 2.0//EN
METHOD:PUBLISH
X-PUBLISHED-TTL:P3D
REFRESH-INTERVAL:P3D
CALSCALE:GREGORIAN
BEGIN:VEVENT
DTSTART:20110626T150000Z
DTEND:20110626T230000Z
X-MICROSOFT-CDO-ALLDAYEVENT:FALSE
SUMMARY:Event at American Legion Auxiliary Unit #294
DESCRIPTION:AMERICAN AUXILIARY UNIT #294\n\n	HARTLAND's HOMETOWN PARADE\n\n	SUNDAY\, JUNE 26\,2011   10:00AM-6:00PM\n\n	\n\n	\n\n	OUR BRAT STAND WILL ONCE AGAIN BE SERVING BRATS\, HOTDOGS\,BUTTERED CORN\, WATER\,SODA FOR THE DAY.\n\n	LET'S HOPE FOR A NICE DAY AND HOPE TO SEE YOU THERE.\n\n	                       \n\n	                                    UNIT #294 ALA
X-ALT-DESC;FMTTYPE=text/html:<h3 style="text-align: center">\n	AMERICAN AUXILIARY UNIT #294<br />\n	HARTLAND&#39\;s HOMETOWN PARADE<br />\n	SUNDAY\, JUNE 26\,2011&nbsp\;&nbsp\; 10:00AM-6:00PM<br />\n	<br />\n	<br />\n	OUR BRAT STAND WILL ONCE&nbsp\;AGAIN BE&nbsp\;SERVING BRATS\, HOTDOGS\,BUTTERED CORN\, WATER\,SODA FOR THE DAY.<br />\n	LET&#39\;S HOPE FOR A NICE DAY AND HOPE TO SEE YOU THERE.<br />\n	&nbsp\;&nbsp\;&nbsp\;&nbsp\;&nbsp\;&nbsp\;&nbsp\;&nbsp\;&nbsp\;&nbsp\;&nbsp\;&nbsp\;&nbsp\;&nbsp\;&nbsp\;&nbsp\;&nbsp\;&nbsp\;&nbsp\;&nbsp\;&nbsp\;&nbsp\;&nbsp\;<br />\n	&nbsp\;&nbsp\;&nbsp\;&nbsp\;&nbsp\;&nbsp\;&nbsp\;&nbsp\;&nbsp\;&nbsp\;&nbsp\;&nbsp\;&nbsp\;&nbsp\;&nbsp\;&nbsp\;&nbsp\;&nbsp\;&nbsp\;&nbsp\;&nbsp\;&nbsp\;&nbsp\;&nbsp\;&nbsp\;&nbsp\;&nbsp\;&nbsp\;&nbsp\;&nbsp\;&nbsp\;&nbsp\;&nbsp\;&nbsp\;&nbsp\;&nbsp\;UNIT&nbsp\;#294 ALA<br />\n	&nbsp\;&nbsp\;</h3>\n
LOCATION:POST AMERICAN LEGION 294 AMERICAN LEGION POST #294
UID:e.522.131725
SEQUENCE:3
DTSTAMP:20260422T150807Z
URL:https://business.hartland-wi.org/events/details/event-at-american-legion-auxiliary-unit-294-06-26-2011-131725
END:VEVENT

END:VCALENDAR
