BEGIN:VCALENDAR
VERSION:2.0
PRODID:-//ChamberMaster//Event Calendar 2.0//EN
METHOD:PUBLISH
X-PUBLISHED-TTL:P3D
REFRESH-INTERVAL:P3D
CALSCALE:GREGORIAN
BEGIN:VEVENT
DTSTART:20110729T140000Z
DTEND:20110729T180000Z
X-MICROSOFT-CDO-ALLDAYEVENT:FALSE
SUMMARY:Escrima Camp
DESCRIPTION:Kids ages 7-12 will learn basic and intermediate techniques in the Filipino martial arts of Kali Arnis (escrima).  An excellent introduction to this versitile martial arts.
X-ALT-DESC;FMTTYPE=text/html:Kids ages 7-12 will learn basic and intermediate techniques in the Filipino martial arts of Kali Arnis (escrima).&nbsp\; An excellent introduction to this versitile martial arts.&nbsp\; 
LOCATION:350 Cottonwood Ave
UID:e.522.131743
SEQUENCE:3
DTSTAMP:20260420T102620Z
URL:https://business.hartland-wi.org/events/details/escrima-camp-07-29-2011-131743
END:VEVENT

END:VCALENDAR
