BEGIN:VCALENDAR
VERSION:2.0
PRODID:-//ChamberMaster//Event Calendar 2.0//EN
METHOD:PUBLISH
X-PUBLISHED-TTL:P3D
REFRESH-INTERVAL:P3D
CALSCALE:GREGORIAN
BEGIN:VEVENT
DTSTART:20190413T150000Z
DTEND:20190413T180000Z
X-MICROSOFT-CDO-ALLDAYEVENT:FALSE
SUMMARY:Easter Egg Hunt & Family Open Skate
DESCRIPTION:Eater Egg Hunt & Familly Open Skate For ages 3 to 10. 3 age Groups $5 Child $6 Adult $2.50 for skate rental.Great prizes to be given away a long with thousands of eggs!
X-ALT-DESC;FMTTYPE=text/html:Eater Egg Hunt &amp\; Familly Open Skate For ages 3 to 10. 3 age Groups $5 Child $6 Adult $2.50 for skate rental.Great prizes to be given away a long with thousands of eggs!
LOCATION:The Mullett Ice Center located on the Arrowhead High School Campus 700 North Ave Hartland\, WI 53029
UID:e.522.137212
SEQUENCE:3
DTSTAMP:20260424T192955Z
URL:https://business.hartland-wi.org/events/details/easter-egg-hunt-family-open-skate-137212
END:VEVENT

END:VCALENDAR
