BEGIN:VCALENDAR
VERSION:2.0
PRODID:-//ChamberMaster//Event Calendar 2.0//EN
METHOD:PUBLISH
X-PUBLISHED-TTL:P3D
REFRESH-INTERVAL:P3D
CALSCALE:GREGORIAN
BEGIN:VEVENT
DTSTART;VALUE=DATE:20110409
DTEND;VALUE=DATE:20110410
TRANSP:TRANSPARENT
X-MICROSOFT-CDO-ALLDAYEVENT:TRUE
SUMMARY:Easter at the Y
DESCRIPTION:Join our Easter Fun! (Ages 10 and under)\n\nIndoor Egg Hung Begins at 10am (separate age group areas)\n\nActivities from 10am-12pm:  Indoor Easter egg hunt\, face painting\, arts and crafts\, fun games and a visit by the Easter Bunny.  Stuff n' Fluff Workshop
X-ALT-DESC;FMTTYPE=text/html:Join our Easter Fun! (Ages 10 and under)\n<br>Indoor Egg Hung Begins at 10am (separate age group areas)\n<br>Activities from 10am-12pm:  Indoor Easter egg hunt\, face painting\, arts and crafts\, fun games and a visit by the Easter Bunny.  Stuff n' Fluff Workshop
LOCATION:YMCA at Pabst Farms 1750 E. Valley Road\, Oconomowoc\, WI
UID:e.522.131549
SEQUENCE:3
DTSTAMP:20260422T183435Z
URL:https://business.hartland-wi.org/events/details/easter-at-the-y-04-09-2011-131549
END:VEVENT

END:VCALENDAR
