BEGIN:VCALENDAR
VERSION:2.0
PRODID:-//ChamberMaster//Event Calendar 2.0//EN
METHOD:PUBLISH
X-PUBLISHED-TTL:P3D
REFRESH-INTERVAL:P3D
CALSCALE:GREGORIAN
BEGIN:VEVENT
DTSTART:20120913T223000Z
DTEND:20121018T233000Z
X-MICROSOFT-CDO-ALLDAYEVENT:FALSE
SUMMARY:Drawing Class
DESCRIPTION:Learn how to accurately render your favorite subjects and images with pencil and colored pencil.
X-ALT-DESC;FMTTYPE=text/html:Learn how to accurately render your favorite subjects and images with pencil and colored pencil.
LOCATION:Lake Country Fine Arts School and Gallery 112 W. Capitol Dr. Hartland\, WI 53029
UID:e.522.132019
SEQUENCE:3
DTSTAMP:20260421T074857Z
URL:https://business.hartland-wi.org/events/details/drawing-class-09-13-2012-132019
END:VEVENT

END:VCALENDAR
