BEGIN:VCALENDAR
VERSION:2.0
PRODID:-//ChamberMaster//Event Calendar 2.0//EN
METHOD:PUBLISH
X-PUBLISHED-TTL:P3D
REFRESH-INTERVAL:P3D
CALSCALE:GREGORIAN
BEGIN:VEVENT
DTSTART:20180703T130000Z
DTEND:20180703T150000Z
X-MICROSOFT-CDO-ALLDAYEVENT:FALSE
SUMMARY:Don't Skip a Beat: Get Your Heart in Rhythm: Summit Senior Breakfast Club
DESCRIPTION:Summit Senior Breakfast Club\n\nDon't Skip a Beat:  Get Your Heart in Rhythm\n\nThe heart is a strong\, muscular pump responsible for pumping blood throughout the body.  Every day the heart beats about 100\,0000 times and pumps oxygen and nutrient rich blood to every cell in our body.  However\, there are conditions such as atrial fibrillation that can cause the heart to change from its normal patter.  Join Crystal Platz\, APNP\, to learn more about hear rhythm disorders.\n\nRegistration is required by phoning:  888-863-5502 or 262-434-1248\n\nRegistration/light breakfast:  8 to 8:30\n\nPresentation: 8:30 to 10 a.m.
X-ALT-DESC;FMTTYPE=text/html:<div style="text-align: center\;"><strong>Summit Senior Breakfast Club<br />\nDon&#39\;t Skip a Beat:&nbsp\; Get Your Heart in Rhythm<br />\nThe heart is a strong\, muscular pump responsible for pumping blood throughout the body.&nbsp\; Every day the heart beats about 100\,0000 times and pumps oxygen and nutrient rich blood to every cell in our body.&nbsp\; However\, there are conditions such as atrial fibrillation that can cause the heart to change from its normal patter.&nbsp\; Join Crystal Platz\, APNP\, to learn more about hear rhythm disorders.<br />\nRegistration is required by phoning:&nbsp\; 888-863-5502 or 262-434-1248<br />\nRegistration/light breakfast:&nbsp\; 8 to 8:30<br />\nPresentation: 8:30 to 10 a.m.</strong></div>\n
LOCATION:Aurora Medical Center Summit Draper Hall 36500 Aurora Drive Summit\, WI
UID:e.522.137246
SEQUENCE:3
DTSTAMP:20260424T042150Z
URL:https://business.hartland-wi.org/events/details/don-t-skip-a-beat-get-your-heart-in-rhythm-summit-senior-breakfast-club-137246
END:VEVENT

END:VCALENDAR
