BEGIN:VCALENDAR
VERSION:2.0
PRODID:-//ChamberMaster//Event Calendar 2.0//EN
METHOD:PUBLISH
X-PUBLISHED-TTL:P3D
REFRESH-INTERVAL:P3D
CALSCALE:GREGORIAN
BEGIN:VEVENT
DTSTART:20181106T140000Z
DTEND:20181106T160000Z
X-MICROSOFT-CDO-ALLDAYEVENT:FALSE
SUMMARY:Don't Skip a Beat: Get Your Heart in Rhythm - Summit Senior Breakfast Club
DESCRIPTION:Summit Senior Breakfast Club\n\nDon't Miss a Stroke:  Symptoms and Treatment Options\n\n\n\nEvery second counts when it comes to treating a stroke.  Stroke is the third leading cause of death in the United States and also one of the major causes of long-term disabilities in adults.  Join Unit Stroke Chapion\, Crystal Logan RN\, and learn the signs and symptoms and how to take action steps for prevention.\n\n\n\nRegistration is required by phoning:  888-863-5502 or Trish Golden at 262-434-1248
X-ALT-DESC;FMTTYPE=text/html:<div style="text-align: center\;"><strong>Summit Senior Breakfast Club<br />\nDon&#39\;t Miss a Stroke:&nbsp\; Symptoms and Treatment Options<br />\n<br />\nEvery second counts when it comes to treating a stroke.&nbsp\; Stroke is the third leading cause of death in the United States and also one of the major causes of long-term disabilities in adults.&nbsp\; Join Unit Stroke Chapion\, Crystal Logan RN\, and learn the signs and symptoms and how to take action steps for prevention.<br />\n<br />\nRegistration is required by phoning:&nbsp\; 888-863-5502 or Trish Golden at 262-434-1248</strong><br />\n&nbsp\;</div>\n
LOCATION:Aurora Medical Center Summit Draper Hall 36500 Aurora Drive Summit\, WI
UID:e.522.137482
SEQUENCE:3
DTSTAMP:20260424T104131Z
URL:https://business.hartland-wi.org/events/details/don-t-skip-a-beat-get-your-heart-in-rhythm-summit-senior-breakfast-club-11-06-2018-137482
END:VEVENT

END:VCALENDAR
