BEGIN:VCALENDAR
VERSION:2.0
PRODID:-//ChamberMaster//Event Calendar 2.0//EN
METHOD:PUBLISH
X-PUBLISHED-TTL:P3D
REFRESH-INTERVAL:P3D
CALSCALE:GREGORIAN
BEGIN:VEVENT
DTSTART:20120419T163000Z
DTEND:20120419T183000Z
X-MICROSOFT-CDO-ALLDAYEVENT:FALSE
SUMMARY:DOL Regulatory Update Program at Retirement Plan Solutions - Emil Weatherbee
DESCRIPTION:2012 Department of Labor (DOL) Regulations\n\n		A Game Changer for Employers\n\n		Retirement Plan Solutions - Learning Sessions\n	\n		 \n	\n		If someone who specialized in 401k plans cared about you being a Fiduciary of your company retirement plan\, they would help to familiarize you with your new Fiduciary responsibilities arising from the new DOL Regulations taking effect July 1\, 2012.\n	\n		 \n	\n		A February 2012 report titled\, ERISA 404(a)(5) A Game Changer from leading independent financial industry expert Dalbar\, Inc. states:\n	\n		 \n\n		" new 408(b)(2) regulations require plan sponsors themselves to act to avoid fiduciary risk."\n\n		\n\n		"Regulations make it a fiduciary breach for plan sponsors who fail to act."\n\n		\n\n		"Under the new regulations\, plan fiduciaries must pro-actively determine if existing service arrangements are reasonable."\n	\n		 \n	\n		Many fiduciaries have little to no awareness of these new regulations\, or what they need to do to meet them.  We're here to change that for Wisconsin employers. Our ten member firm\, with 170 years of cumulative financial industry expertise\, specializes in 401k plans\; we do care. \n	\n		 \n	\n		Please join us at any of the following program covering DOL Regulatory changes:\n	\n		 \n	\n		            Thursday\, April 19\, 11:30 am   1:30 pm \n	\n		            Retirement Plan Solutions\n	\n		            394 Williamstowne\, Suite 101\n	\n		            Delafield\, WI 53018\n	\n		            (Lunch provided)\n	\n		 \n	\n		            Wednesday\, April 25\, 11:30 am   1:30 pm\n	\n		            North Shore Country Club\n	\n		            3100 West Country Club Drive\n	\n		            Mequon\, WI 53092\n	\n		            (Lunch provided)\n	\n		 \n	\n		            Tuesday\, May 15\, 5:30 pm   7:30 pm\n	\n		            Cedarburg Cultural Center\n	\n		            W62 N546 Washington Avenue\n	\n		            Cedarburg\, WI 53012\n	\n		            (Hors d'oeuvres provided)\n	\n		 \n	\n		TO REGISTER\, CALL OR EMAIL PAM AT RETIREMENT PLAN SOLUTIONS:\n\n		 \n	\n		(262) 641-0800  OR  pam@rplansolutions.com
X-ALT-DESC;FMTTYPE=text/html:<div style="text-align: center">\n	<p align="center" class="MsoNormal" style="text-align: center\; line-height: normal\; margin: 0in 0in 0pt">\n		<span style="font-size: 12px"><b><u><span lang="EN" style="font-family: 'Arial'\, 'sans-serif'\; color: #c00000\; font-size: 12pt\; mso-fareast-font-family: 'Times New Roman'\; mso-ansi-language: EN">2012 Department of Labor (DOL) Regulations<br />\n		A Game Changer for Employers</span></u></b><br />\n		<span lang="EN" style="font-family: 'Arial'\, 'sans-serif'\; color: #c00000\; font-size: 12pt\; mso-fareast-font-family: 'Times New Roman'\; mso-ansi-language: EN">Retirement Plan Solutions - Learning Sessions</span></span></p>\n	<p class="MsoNormal" style="line-height: normal\; margin: 0in 0in 0pt">\n		<span style="font-size: 12px"><b><span lang="EN" style="font-family: 'Arial'\, 'sans-serif'\; color: black\; font-size: 12pt\; mso-fareast-font-family: 'Times New Roman'\; mso-ansi-language: EN">&nbsp\;</span></b></span></p>\n	<p class="MsoNormal" style="text-align: left\; line-height: normal\; margin: 0in 0in 0pt">\n		<span style="font-size: 12px"><b><span lang="EN" style="font-family: 'Arial'\, 'sans-serif'\; color: black\; font-size: 12pt\; mso-fareast-font-family: 'Times New Roman'\; mso-ansi-language: EN">If someone who specialized in 401k plans cared about you being a Fiduciary of your company retirement plan\, they would help to familiarize you with your new Fiduciary</span></b><b><i><span lang="EN" style="font-family: 'Arial'\, 'sans-serif'\; color: #1f497d\; font-size: 12pt\; mso-fareast-font-family: 'Times New Roman'\; mso-ansi-language: EN"> </span></i></b><b><span lang="EN" style="font-family: 'Arial'\, 'sans-serif'\; color: black\; font-size: 12pt\; mso-fareast-font-family: 'Times New Roman'\; mso-ansi-language: EN">responsibilities arising from the new DOL Regulations taking effect July 1\, 2012.</span></b></span></p>\n	<p class="MsoNormal" style="text-align: left\; line-height: normal\; margin: 0in 0in 0pt">\n		<span style="font-size: 12px"><b><span lang="EN" style="font-family: 'Arial'\, 'sans-serif'\; color: black\; font-size: 12pt\; mso-fareast-font-family: 'Times New Roman'\; mso-ansi-language: EN">&nbsp\;</span></b></span></p>\n	<p class="MsoNormal" style="text-align: left\; line-height: normal\; margin: 0in 0in 0pt">\n		<span style="font-size: 12px"><b><span lang="EN" style="font-family: 'Arial'\, 'sans-serif'\; color: black\; font-size: 12pt\; mso-fareast-font-family: 'Times New Roman'\; mso-ansi-language: EN">A February 2012 report titled\, <u>ERISA 404(a)(5) A Game Changer</u> from leading independent financial industry expert Dalbar\, Inc. states:</span></b></span></p>\n	<p class="MsoNormal" style="text-align: left\; line-height: normal\; margin: 0in 0in 0pt">\n		<span style="font-size: 12px"><b><span style="font-family: 'Arial'\, 'sans-serif'\; color: #cc0000\; font-size: 12pt\; mso-fareast-font-family: 'Times New Roman'">&nbsp\;</span></b></span><br />\n		<span style="font-size: 12px"><b><i><span lang="EN" style="font-family: 'Arial'\, 'sans-serif'\; color: #c00000\; font-size: 12pt\; mso-fareast-font-family: 'Times New Roman'\; mso-ansi-language: EN">&quot\;&hellip\;new 408(b)(2) regulations require plan sponsors themselves to act to avoid fiduciary risk.&rdquo\;</span></i></b><br />\n		<br />\n		<b><i><span lang="EN" style="font-family: 'Arial'\, 'sans-serif'\; color: #c00000\; font-size: 12pt\; mso-fareast-font-family: 'Times New Roman'\; mso-ansi-language: EN">&ldquo\;Regulations make it a fiduciary breach for plan sponsors who fail to act.&rdquo\;</span></i></b><br />\n		<br />\n		<b><i><span lang="EN" style="font-family: 'Arial'\, 'sans-serif'\; color: #c00000\; font-size: 12pt\; mso-fareast-font-family: 'Times New Roman'\; mso-ansi-language: EN">&ldquo\;Under the new regulations\, plan fiduciaries must pro-actively determine if existing service arrangements are reasonable.&rdquo\;</span></i></b></span></p>\n	<p class="MsoNormal" style="text-align: left\; line-height: normal\; margin: 0in 0in 0pt">\n		<span style="font-size: 12px"><span style="font-family: 'Arial'\, 'sans-serif'\; font-size: 12pt\; mso-fareast-font-family: 'Times New Roman'"><font color="#000000">&nbsp\;</font></span></span></p>\n	<p class="MsoNormal" style="text-align: left\; line-height: normal\; margin: 0in 0in 0pt">\n		<span style="font-size: 12px"><b><span lang="EN" style="font-family: 'Arial'\, 'sans-serif'\; color: black\; font-size: 12pt\; mso-fareast-font-family: 'Times New Roman'\; mso-ansi-language: EN">Many fiduciaries have little to no awareness of these new regulations\, or what they need to do to meet them.&nbsp\; We&rsquo\;re here to change that for Wisconsin employers. Our ten member firm\, with 170 years of cumulative financial industry expertise\, specializes in 401k plans\; we do care. </span></b></span></p>\n	<p class="MsoNormal" style="line-height: normal\; margin: 0in 0in 0pt">\n		<span style="font-size: 12px"><b><span lang="EN" style="font-family: 'Arial'\, 'sans-serif'\; color: black\; font-size: 12pt\; mso-fareast-font-family: 'Times New Roman'\; mso-ansi-language: EN">&nbsp\;</span></b></span></p>\n	<p class="MsoNormal" style="line-height: normal\; margin: 0in 0in 0pt">\n		<span style="font-size: 12px"><b><span lang="EN" style="font-family: 'Arial'\, 'sans-serif'\; color: black\; font-size: 12pt\; mso-fareast-font-family: 'Times New Roman'\; mso-ansi-language: EN">Please join us at&nbsp\;any of the following&nbsp\;program covering DOL Regulatory changes:</span></b></span></p>\n	<p class="MsoNormal" style="line-height: normal\; margin: 0in 0in 0pt">\n		<span style="font-size: 12px"><b><span lang="EN" style="font-family: 'Arial'\, 'sans-serif'\; color: black\; font-size: 12pt\; mso-fareast-font-family: 'Times New Roman'\; mso-ansi-language: EN">&nbsp\;</span></b></span></p>\n	<p class="MsoNormal" style="line-height: normal\; margin: 0in 0in 0pt">\n		<span style="font-size: 12px"><b><span lang="EN" style="font-family: 'Arial'\, 'sans-serif'\; color: black\; font-size: 12pt\; mso-fareast-font-family: 'Times New Roman'\; mso-ansi-language: EN"><span style="mso-tab-count: 1">&nbsp\;&nbsp\;&nbsp\;&nbsp\;&nbsp\;&nbsp\;&nbsp\;&nbsp\;&nbsp\;&nbsp\;&nbsp\; </span></span></b><b><span lang="EN" style="font-family: 'Arial'\, 'sans-serif'\; color: #c00000\; font-size: 12pt\; mso-fareast-font-family: 'Times New Roman'\; mso-ansi-language: EN">Thursday\, April 19\, 11:30 am &ndash\; 1:30 pm </span></b></span></p>\n	<p class="MsoNormal" style="line-height: normal\; margin: 0in 0in 0pt">\n		<span style="font-size: 12px"><b><span lang="EN" style="font-family: 'Arial'\, 'sans-serif'\; color: black\; font-size: 12pt\; mso-fareast-font-family: 'Times New Roman'\; mso-ansi-language: EN"><span style="mso-tab-count: 1">&nbsp\;&nbsp\;&nbsp\;&nbsp\;&nbsp\;&nbsp\;&nbsp\;&nbsp\;&nbsp\;&nbsp\;&nbsp\; </span>Retirement Plan Solutions</span></b></span></p>\n	<p class="MsoNormal" style="line-height: normal\; margin: 0in 0in 0pt">\n		<span style="font-size: 12px"><b><span lang="EN" style="font-family: 'Arial'\, 'sans-serif'\; color: black\; font-size: 12pt\; mso-fareast-font-family: 'Times New Roman'\; mso-ansi-language: EN"><span style="mso-tab-count: 1">&nbsp\;&nbsp\;&nbsp\;&nbsp\;&nbsp\;&nbsp\;&nbsp\;&nbsp\;&nbsp\;&nbsp\;&nbsp\; </span>394 Williamstowne\, Suite 101</span></b></span></p>\n	<p class="MsoNormal" style="line-height: normal\; margin: 0in 0in 0pt">\n		<span style="font-size: 12px"><b><span lang="EN" style="font-family: 'Arial'\, 'sans-serif'\; color: black\; font-size: 12pt\; mso-fareast-font-family: 'Times New Roman'\; mso-ansi-language: EN"><span style="mso-tab-count: 1">&nbsp\;&nbsp\;&nbsp\;&nbsp\;&nbsp\;&nbsp\;&nbsp\;&nbsp\;&nbsp\;&nbsp\;&nbsp\; </span>Delafield\, WI 53018</span></b></span></p>\n	<p class="MsoNormal" style="line-height: normal\; margin: 0in 0in 0pt">\n		<span style="font-size: 12px"><b><span lang="EN" style="font-family: 'Arial'\, 'sans-serif'\; color: black\; font-size: 12pt\; mso-fareast-font-family: 'Times New Roman'\; mso-ansi-language: EN"><span style="mso-tab-count: 1">&nbsp\;&nbsp\;&nbsp\;&nbsp\;&nbsp\;&nbsp\;&nbsp\;&nbsp\;&nbsp\;&nbsp\;&nbsp\; </span>(</span></b><font color="#000000"><b><i style="mso-bidi-font-style: normal"><span lang="EN" style="font-family: 'Arial'\, 'sans-serif'\; font-size: 12pt\; mso-fareast-font-family: 'Times New Roman'\; mso-ansi-language: EN">Lunch provided)</span></i></b></font></span></p>\n	<p class="MsoNormal" style="line-height: normal\; margin: 0in 0in 0pt">\n		<span style="font-size: 12px"><b><span lang="EN" style="font-family: 'Arial'\, 'sans-serif'\; color: black\; font-size: 12pt\; mso-fareast-font-family: 'Times New Roman'\; mso-ansi-language: EN">&nbsp\;</span></b></span></p>\n	<p class="MsoNormal" style="line-height: normal\; margin: 0in 0in 0pt">\n		<span style="font-size: 12px"><b><span lang="EN" style="font-family: 'Arial'\, 'sans-serif'\; color: black\; font-size: 12pt\; mso-fareast-font-family: 'Times New Roman'\; mso-ansi-language: EN"><span style="mso-tab-count: 1">&nbsp\;&nbsp\;&nbsp\;&nbsp\;&nbsp\;&nbsp\;&nbsp\;&nbsp\;&nbsp\;&nbsp\;&nbsp\; </span></span></b><b><span lang="EN" style="font-family: 'Arial'\, 'sans-serif'\; color: #c00000\; font-size: 12pt\; mso-fareast-font-family: 'Times New Roman'\; mso-ansi-language: EN">Wednesday\, April 25\, 11:30 am &ndash\; 1:30 pm</span></b></span></p>\n	<p class="MsoNormal" style="line-height: normal\; margin: 0in 0in 0pt">\n		<span style="font-size: 12px"><b><span lang="EN" style="font-family: 'Arial'\, 'sans-serif'\; color: #cc0000\; font-size: 12pt\; mso-fareast-font-family: 'Times New Roman'\; mso-ansi-language: EN"><span style="mso-tab-count: 1">&nbsp\;&nbsp\;&nbsp\;&nbsp\;&nbsp\;&nbsp\;&nbsp\;&nbsp\;&nbsp\;&nbsp\;&nbsp\; </span></span></b><b><span lang="EN" style="font-family: 'Arial'\, 'sans-serif'\; font-size: 12pt\; mso-fareast-font-family: 'Times New Roman'\; mso-ansi-language: EN"><font color="#000000">North Shore Country Club</font></span></b></span></p>\n	<p class="MsoNormal" style="line-height: normal\; margin: 0in 0in 0pt">\n		<span style="font-size: 12px"><b><span lang="EN" style="font-family: 'Arial'\, 'sans-serif'\; font-size: 12pt\; mso-fareast-font-family: 'Times New Roman'\; mso-ansi-language: EN"><font color="#000000"><span style="mso-tab-count: 1">&nbsp\;&nbsp\;&nbsp\;&nbsp\;&nbsp\;&nbsp\;&nbsp\;&nbsp\;&nbsp\;&nbsp\;&nbsp\; </span>3100 West Country Club Drive</font></span></b></span></p>\n	<p class="MsoNormal" style="line-height: normal\; margin: 0in 0in 0pt">\n		<span style="font-size: 12px"><b><span lang="EN" style="font-family: 'Arial'\, 'sans-serif'\; font-size: 12pt\; mso-fareast-font-family: 'Times New Roman'\; mso-ansi-language: EN"><font color="#000000"><span style="mso-tab-count: 1">&nbsp\;&nbsp\;&nbsp\;&nbsp\;&nbsp\;&nbsp\;&nbsp\;&nbsp\;&nbsp\;&nbsp\;&nbsp\; </span>Mequon\, WI 53092</font></span></b></span></p>\n	<p class="MsoNormal" style="line-height: normal\; margin: 0in 0in 0pt">\n		<span style="font-size: 12px"><b><span lang="EN" style="font-family: 'Arial'\, 'sans-serif'\; font-size: 12pt\; mso-fareast-font-family: 'Times New Roman'\; mso-ansi-language: EN"><font color="#000000"><span style="mso-tab-count: 1">&nbsp\;&nbsp\;&nbsp\;&nbsp\;&nbsp\;&nbsp\;&nbsp\;&nbsp\;&nbsp\;&nbsp\;&nbsp\; </span>(<i style="mso-bidi-font-style: normal">Lunch provided)</i></font></span></b></span></p>\n	<p class="MsoNormal" style="line-height: normal\; margin: 0in 0in 0pt">\n		<span style="font-size: 12px"><b><span lang="EN" style="font-family: 'Arial'\, 'sans-serif'\; color: #cc0000\; font-size: 12pt\; mso-fareast-font-family: 'Times New Roman'\; mso-ansi-language: EN">&nbsp\;</span></b></span></p>\n	<p class="MsoNormal" style="line-height: normal\; margin: 0in 0in 0pt">\n		<span style="font-size: 12px"><b><span lang="EN" style="font-family: 'Arial'\, 'sans-serif'\; color: #cc0000\; font-size: 12pt\; mso-fareast-font-family: 'Times New Roman'\; mso-ansi-language: EN"><span style="mso-tab-count: 1">&nbsp\;&nbsp\;&nbsp\;&nbsp\;&nbsp\;&nbsp\;&nbsp\;&nbsp\;&nbsp\;&nbsp\;&nbsp\; </span>Tuesday\, May 15\, 5:30 pm &ndash\; 7:30 pm</span></b></span></p>\n	<p class="MsoNormal" style="line-height: normal\; margin: 0in 0in 0pt">\n		<span style="font-size: 12px"><b><span lang="EN" style="font-family: 'Arial'\, 'sans-serif'\; color: #cc0000\; font-size: 12pt\; mso-fareast-font-family: 'Times New Roman'\; mso-ansi-language: EN"><span style="mso-tab-count: 1">&nbsp\;&nbsp\;&nbsp\;&nbsp\;&nbsp\;&nbsp\;&nbsp\;&nbsp\;&nbsp\;&nbsp\;&nbsp\; </span></span></b><b><span lang="EN" style="font-family: 'Arial'\, 'sans-serif'\; font-size: 12pt\; mso-fareast-font-family: 'Times New Roman'\; mso-ansi-language: EN"><font color="#000000">Cedarburg Cultural Center</font></span></b></span></p>\n	<p class="MsoNormal" style="line-height: normal\; margin: 0in 0in 0pt">\n		<span style="font-size: 12px"><b><span lang="EN" style="font-family: 'Arial'\, 'sans-serif'\; font-size: 12pt\; mso-fareast-font-family: 'Times New Roman'\; mso-ansi-language: EN"><font color="#000000"><span style="mso-tab-count: 1">&nbsp\;&nbsp\;&nbsp\;&nbsp\;&nbsp\;&nbsp\;&nbsp\;&nbsp\;&nbsp\;&nbsp\;&nbsp\; </span>W62 N546 Washington Avenue</font></span></b></span></p>\n	<p class="MsoNormal" style="line-height: normal\; margin: 0in 0in 0pt">\n		<span style="font-size: 12px"><b><span lang="EN" style="font-family: 'Arial'\, 'sans-serif'\; font-size: 12pt\; mso-fareast-font-family: 'Times New Roman'\; mso-ansi-language: EN"><font color="#000000"><span style="mso-tab-count: 1">&nbsp\;&nbsp\;&nbsp\;&nbsp\;&nbsp\;&nbsp\;&nbsp\;&nbsp\;&nbsp\;&nbsp\;&nbsp\; </span>Cedarburg\, WI 53012</font></span></b></span></p>\n	<p class="MsoNormal" style="line-height: normal\; margin: 0in 0in 0pt">\n		<span style="font-size: 12px"><b><span lang="EN" style="font-family: 'Arial'\, 'sans-serif'\; font-size: 12pt\; mso-fareast-font-family: 'Times New Roman'\; mso-ansi-language: EN"><font color="#000000"><span style="mso-tab-count: 1">&nbsp\;&nbsp\;&nbsp\;&nbsp\;&nbsp\;&nbsp\;&nbsp\;&nbsp\;&nbsp\;&nbsp\;&nbsp\; </span>(<i style="mso-bidi-font-style: normal">Hors d&rsquo\;oeuvres provided)</i></font></span></b></span></p>\n	<p class="MsoNormal" style="line-height: normal\; margin: 0in 0in 0pt">\n		<span style="font-size: 12px"><b><span lang="EN" style="font-family: 'Arial'\, 'sans-serif'\; font-size: 12pt\; mso-fareast-font-family: 'Times New Roman'\; mso-ansi-language: EN"><font color="#000000">&nbsp\;</font></span></b></span></p>\n	<p class="MsoNormal" style="line-height: normal\; margin: 0in 0in 0pt">\n		<span style="font-size: 12px"><b><span lang="EN" style="font-family: 'Arial'\, 'sans-serif'\; font-size: 12pt\; mso-fareast-font-family: 'Times New Roman'\; mso-ansi-language: EN"><font color="#000000">TO REGISTER\, CALL OR EMAIL PAM AT RETIREMENT PLAN SOLUTIONS:</font></span></b></span><br />\n		&nbsp\;</p>\n	<p align="center" class="MsoNormal" style="text-align: center\; line-height: normal\; margin: 0in 0in 0pt">\n		<span style="font-size: 12px"><b><span lang="EN" style="font-family: 'Arial'\, 'sans-serif'\; background: yellow\; font-size: 12pt\; mso-fareast-font-family: 'Times New Roman'\; mso-ansi-language: EN\; mso-highlight: yellow"><font color="#000000">(262) 641-0800 <span style="mso-spacerun: yes">&nbsp\;</span>OR <span style="mso-spacerun: yes">&nbsp\;</span></font><a href="mailto:pam@rplansolutions.com">pam@rplansolutions.com</a></span></b></span></p>\n</div>\n
LOCATION:Various - Delafield\, Mequon\, Cedarburg
UID:e.522.131941
SEQUENCE:3
DTSTAMP:20260421T193408Z
URL:https://business.hartland-wi.org/events/details/dol-regulatory-update-program-at-retirement-plan-solutions-emil-weatherbee-04-19-2012-131941
END:VEVENT

END:VCALENDAR
