BEGIN:VCALENDAR
VERSION:2.0
PRODID:-//ChamberMaster//Event Calendar 2.0//EN
METHOD:PUBLISH
X-PUBLISHED-TTL:P3D
REFRESH-INTERVAL:P3D
CALSCALE:GREGORIAN
BEGIN:VEVENT
DTSTART:20131003T230000Z
DTEND:20131004T000000Z
X-MICROSOFT-CDO-ALLDAYEVENT:FALSE
SUMMARY:Disney Show at Lake Country Travel
DESCRIPTION:DISNEY SHOW\n\n\n\nPresented by Disney & Lake Country Travel\n\n\n\n\n\n\n\nTHE ULTIMATE DISNEY EXPERIENCE\n\n\n\nSpend an hour with us to learn the latest from Disney  including Walt Disney World\, Disney Land\, Disney Cruise Lines and Adventures by Disney. SPECIAL ONE-TIME BOOKING INCENTIVES for attendees.\n\n\n\nAdvance RSVP Required. Limited space!\n\n\n\n\n\nWe hope you can make it!
X-ALT-DESC;FMTTYPE=text/html:<br />\nDISNEY SHOW<br />\n<br />\nPresented by Disney &amp\; Lake Country Travel<br />\n<br />\n<br />\n<br />\nTHE ULTIMATE DISNEY EXPERIENCE<br />\n<br />\nSpend an hour with us to learn the latest from Disney&reg\; including Walt Disney World\, Disney Land\, Disney Cruise Lines and Adventures by Disney. SPECIAL ONE-TIME BOOKING INCENTIVES for attendees.<br />\n<br />\nAdvance RSVP Required. Limited space!<br />\n<br />\n<br />\nWe hope you can make it!<br />\n<br />\n
LOCATION:Lake Country Travel 101 W Wisconsin Ave Pewaukee\, WI 53072
UID:e.522.132763
SEQUENCE:3
DTSTAMP:20260420T124340Z
URL:https://business.hartland-wi.org/events/details/disney-show-at-lake-country-travel-10-03-2013-132763
END:VEVENT

END:VCALENDAR
